BEGIN:VCALENDAR
VERSION:2.0
PRODID:-//2025 Conventions - ECPv6.15.17.1//NONSGML v1.0//EN
CALSCALE:GREGORIAN
METHOD:PUBLISH
X-ORIGINAL-URL:https://comic-cons.xyz
X-WR-CALDESC:Events for 2025 Conventions
REFRESH-INTERVAL;VALUE=DURATION:PT1H
X-Robots-Tag:noindex
X-PUBLISHED-TTL:PT1H
BEGIN:VTIMEZONE
TZID:America/New_York
BEGIN:DAYLIGHT
TZOFFSETFROM:-0500
TZOFFSETTO:-0400
TZNAME:EDT
DTSTART:20250309T070000
END:DAYLIGHT
BEGIN:STANDARD
TZOFFSETFROM:-0400
TZOFFSETTO:-0500
TZNAME:EST
DTSTART:20251102T060000
END:STANDARD
BEGIN:DAYLIGHT
TZOFFSETFROM:-0500
TZOFFSETTO:-0400
TZNAME:EDT
DTSTART:20260308T070000
END:DAYLIGHT
BEGIN:STANDARD
TZOFFSETFROM:-0400
TZOFFSETTO:-0500
TZNAME:EST
DTSTART:20261101T060000
END:STANDARD
BEGIN:DAYLIGHT
TZOFFSETFROM:-0500
TZOFFSETTO:-0400
TZNAME:EDT
DTSTART:20270314T070000
END:DAYLIGHT
BEGIN:STANDARD
TZOFFSETFROM:-0400
TZOFFSETTO:-0500
TZNAME:EST
DTSTART:20271107T060000
END:STANDARD
END:VTIMEZONE
BEGIN:VEVENT
DTSTART;VALUE=DATE:20260227
DTEND;VALUE=DATE:20260228
DTSTAMP:20260421T173450
CREATED:20240206T224527Z
LAST-MODIFIED:20250430T232821Z
UID:48510-1772150400-1772236799@comic-cons.xyz
SUMMARY:National Pokémon Day
DESCRIPTION:National Pokémon Day is on February 27 to commemorate the launch of the first Pokémon games\, released by Nintendo Japan in 1996. \nPokémon Presents 2025\n \nThings to do on Pokémon Day:\n• Look for Pokémon Convention dates to attend in the future\n• Watch Pokemon Day streaming event on official YouTube channel\n• View and download Pokémon logos & icons\n• Download Pokémon activity sheets – puzzles\, mazes\, coloring pages\, and more\n• Get the Pokémon Holiday Calendar \n\n\n\n\n\n\n\nPokémon announcements since 2019:\n• Pokémon Sword and Shield (2019)\n• New Mythical Pokémon Zarude (2020)\n• Pokémon Brilliant Diamond and Shining Pearl (2021)\n• Pokémon Legends: Arceus (2021)\n• Pokémon Legends: Arceus Daybreak Update (2022)\n• Pokémon Scarlet and Violet (2022)\n• Hidden Treasure of Area Zero (2023) \nFAQs\nIs Pokémon American or Japanese?\nPokémon is a Japanese media franchise consisting of video games\, animated series and films\, a trading card game\, and other related media. Pokémon is jointly owned by Nintendo\, Game Freak\, and Creatures. \nWhat does Pokémon stand for?\nPokémon is short for “Pocket Monsters”\, the original Japanese name. \nWhat is the rarest Pokémon?\nMeltan and Melmetal are classified as Mythical Pokémon\, one of the rarest categories of Pokémon that there is. While many Meltan were shown initially\, these Meltan eventually merged with Ash’s Meltan so it could evolve\, creating the first known example of a Melmetal. \nWhat animal is Pikachu from?\nSatoshi Tajiri\, a founder of the Pokémon franchise\, classified Pikachu an electric-type pokémon as a mouse type. Well\, he’s definitely the the most famous electric rodent.
URL:https://comic-cons.xyz/event/pokemon-day/
LOCATION:Online Event
CATEGORIES:Geek Holiday,Online Event
ATTACH;FMTTYPE=image/png:https://comic-cons.xyz/wp-content/uploads/Pokemon-Day-logo.png
END:VEVENT
END:VCALENDAR