BEGIN:VCALENDAR
VERSION:2.0
PRODID:-//2025 Conventions - ECPv6.15.17.1//NONSGML v1.0//EN
CALSCALE:GREGORIAN
METHOD:PUBLISH
X-ORIGINAL-URL:https://comic-cons.xyz
X-WR-CALDESC:Events for 2025 Conventions
REFRESH-INTERVAL;VALUE=DURATION:PT1H
X-Robots-Tag:noindex
X-PUBLISHED-TTL:PT1H
BEGIN:VTIMEZONE
TZID:America/Denver
BEGIN:DAYLIGHT
TZOFFSETFROM:-0700
TZOFFSETTO:-0600
TZNAME:MDT
DTSTART:20250309T090000
END:DAYLIGHT
BEGIN:STANDARD
TZOFFSETFROM:-0600
TZOFFSETTO:-0700
TZNAME:MST
DTSTART:20251102T080000
END:STANDARD
BEGIN:DAYLIGHT
TZOFFSETFROM:-0700
TZOFFSETTO:-0600
TZNAME:MDT
DTSTART:20260308T090000
END:DAYLIGHT
BEGIN:STANDARD
TZOFFSETFROM:-0600
TZOFFSETTO:-0700
TZNAME:MST
DTSTART:20261101T080000
END:STANDARD
BEGIN:DAYLIGHT
TZOFFSETFROM:-0700
TZOFFSETTO:-0600
TZNAME:MDT
DTSTART:20270314T090000
END:DAYLIGHT
BEGIN:STANDARD
TZOFFSETFROM:-0600
TZOFFSETTO:-0700
TZNAME:MST
DTSTART:20271107T080000
END:STANDARD
END:VTIMEZONE
BEGIN:VEVENT
DTSTART;VALUE=DATE:20260221
DTEND;VALUE=DATE:20260223
DTSTAMP:20260422T005142
CREATED:20220422T122404Z
LAST-MODIFIED:20260104T142930Z
UID:41778-1771632000-1771804799@comic-cons.xyz
SUMMARY:Collect-A-Con Miami / Fort Lauderdale (Florida)
DESCRIPTION:Collect-A-Con is the Nation’s Largest Trading Card\, Anime & Pop Culture Convention. Photo Ops\, Autographs\, and performance with Ying Yang Twins.
URL:https://comic-cons.xyz/event/collect-a-con-miami-florida/
LOCATION:Broward County Convention Center\, 1950 Eisenhower Blvd\, Fort Lauderdale\, FL\, 33316\, United States
CATEGORIES:Anime Con,Comic Con
ATTACH;FMTTYPE=image/png:https://comic-cons.xyz/wp-content/uploads/collect-a-con-logo.png
END:VEVENT
END:VCALENDAR