BEGIN:VCALENDAR
VERSION:2.0
PRODID:-//2025 Conventions - ECPv6.15.17.1//NONSGML v1.0//EN
CALSCALE:GREGORIAN
METHOD:PUBLISH
X-WR-CALNAME:2025 Conventions
X-ORIGINAL-URL:https://comic-cons.xyz
X-WR-CALDESC:Events for 2025 Conventions
REFRESH-INTERVAL;VALUE=DURATION:PT1H
X-Robots-Tag:noindex
X-PUBLISHED-TTL:PT1H
BEGIN:VTIMEZONE
TZID:America/Los_Angeles
BEGIN:DAYLIGHT
TZOFFSETFROM:-0800
TZOFFSETTO:-0700
TZNAME:PDT
DTSTART:20210314T100000
END:DAYLIGHT
BEGIN:STANDARD
TZOFFSETFROM:-0700
TZOFFSETTO:-0800
TZNAME:PST
DTSTART:20211107T090000
END:STANDARD
BEGIN:DAYLIGHT
TZOFFSETFROM:-0800
TZOFFSETTO:-0700
TZNAME:PDT
DTSTART:20220313T100000
END:DAYLIGHT
BEGIN:STANDARD
TZOFFSETFROM:-0700
TZOFFSETTO:-0800
TZNAME:PST
DTSTART:20221106T090000
END:STANDARD
BEGIN:DAYLIGHT
TZOFFSETFROM:-0800
TZOFFSETTO:-0700
TZNAME:PDT
DTSTART:20230312T100000
END:DAYLIGHT
BEGIN:STANDARD
TZOFFSETFROM:-0700
TZOFFSETTO:-0800
TZNAME:PST
DTSTART:20231105T090000
END:STANDARD
END:VTIMEZONE
BEGIN:VTIMEZONE
TZID:America/Chicago
BEGIN:DAYLIGHT
TZOFFSETFROM:-0600
TZOFFSETTO:-0500
TZNAME:CDT
DTSTART:20190310T080000
END:DAYLIGHT
BEGIN:STANDARD
TZOFFSETFROM:-0500
TZOFFSETTO:-0600
TZNAME:CST
DTSTART:20191103T070000
END:STANDARD
BEGIN:DAYLIGHT
TZOFFSETFROM:-0600
TZOFFSETTO:-0500
TZNAME:CDT
DTSTART:20200308T080000
END:DAYLIGHT
BEGIN:STANDARD
TZOFFSETFROM:-0500
TZOFFSETTO:-0600
TZNAME:CST
DTSTART:20201101T070000
END:STANDARD
BEGIN:DAYLIGHT
TZOFFSETFROM:-0600
TZOFFSETTO:-0500
TZNAME:CDT
DTSTART:20210314T080000
END:DAYLIGHT
BEGIN:STANDARD
TZOFFSETFROM:-0500
TZOFFSETTO:-0600
TZNAME:CST
DTSTART:20211107T070000
END:STANDARD
BEGIN:DAYLIGHT
TZOFFSETFROM:-0600
TZOFFSETTO:-0500
TZNAME:CDT
DTSTART:20220313T080000
END:DAYLIGHT
BEGIN:STANDARD
TZOFFSETFROM:-0500
TZOFFSETTO:-0600
TZNAME:CST
DTSTART:20221106T070000
END:STANDARD
BEGIN:DAYLIGHT
TZOFFSETFROM:-0600
TZOFFSETTO:-0500
TZNAME:CDT
DTSTART:20230312T080000
END:DAYLIGHT
BEGIN:STANDARD
TZOFFSETFROM:-0500
TZOFFSETTO:-0600
TZNAME:CST
DTSTART:20231105T070000
END:STANDARD
END:VTIMEZONE
BEGIN:VTIMEZONE
TZID:America/New_York
BEGIN:DAYLIGHT
TZOFFSETFROM:-0500
TZOFFSETTO:-0400
TZNAME:EDT
DTSTART:20180311T070000
END:DAYLIGHT
BEGIN:STANDARD
TZOFFSETFROM:-0400
TZOFFSETTO:-0500
TZNAME:EST
DTSTART:20181104T060000
END:STANDARD
BEGIN:DAYLIGHT
TZOFFSETFROM:-0500
TZOFFSETTO:-0400
TZNAME:EDT
DTSTART:20190310T070000
END:DAYLIGHT
BEGIN:STANDARD
TZOFFSETFROM:-0400
TZOFFSETTO:-0500
TZNAME:EST
DTSTART:20191103T060000
END:STANDARD
BEGIN:DAYLIGHT
TZOFFSETFROM:-0500
TZOFFSETTO:-0400
TZNAME:EDT
DTSTART:20200308T070000
END:DAYLIGHT
BEGIN:STANDARD
TZOFFSETFROM:-0400
TZOFFSETTO:-0500
TZNAME:EST
DTSTART:20201101T060000
END:STANDARD
BEGIN:DAYLIGHT
TZOFFSETFROM:-0500
TZOFFSETTO:-0400
TZNAME:EDT
DTSTART:20210314T070000
END:DAYLIGHT
BEGIN:STANDARD
TZOFFSETFROM:-0400
TZOFFSETTO:-0500
TZNAME:EST
DTSTART:20211107T060000
END:STANDARD
END:VTIMEZONE
BEGIN:VEVENT
DTSTART;VALUE=DATE:20221209
DTEND;VALUE=DATE:20221212
DTSTAMP:20260420T151437
CREATED:20211227T203637Z
LAST-MODIFIED:20240216T142516Z
UID:41038-1670544000-1670803199@comic-cons.xyz
SUMMARY:Game of Thrones Official Fan Convention (Los Angeles\, California)
DESCRIPTION:Newly Announced Kit Harington (“Jon Snow”) Will Be Joining Alfie Allen (“Theon Greyjoy”)\, Jack Gleeson (“Joffrey Baratheon”)\, Kristofer Hivju (“Tormund Giantsbane”)\, Kristian Nairn (“Hodor”)\, Daniel Portman (“Podrick Payne”)\, Gemma Whelan (“Yara Greyjoy”)\, and Isaac Hempstead Wright (“Bran Stark”) at The Game of Thrones™ Official Fan Convention. \nDecember 9-11\, 2022 at Los Angeles Convention Center
URL:https://comic-cons.xyz/event/game-of-thrones-official-fan-convention/
LOCATION:Los Angeles Convention Center\, 1201 S Figueroa St\, Los Angeles\, CA\, 90015\, United States
CATEGORIES:Nerd Convention
END:VEVENT
BEGIN:VEVENT
DTSTART;VALUE=DATE:20220610
DTEND;VALUE=DATE:20220613
DTSTAMP:20260420T151437
CREATED:20180724T205635Z
LAST-MODIFIED:20240903T182558Z
UID:5301-1654819200-1655078399@comic-cons.xyz
SUMMARY:Gateway: The Official Stargate Convention (Chicago\, Illinois)
DESCRIPTION:2021 will mark the 24th anniversary of the premiere of Stargate SG-1; the 17th for Stargate Atlantis\, and the 12th anniversary of Stargate Universe. Hosted by Creation Entertainment\, Gateway is the annual salute to Stargate franchise. \n \nTweets by CreationEnt
URL:https://comic-cons.xyz/event/stargate-convention-gateway/
LOCATION:The Westin O’Hare\, 6100 N River Rd\, Rosemont\, IL\, 60018\, United States
CATEGORIES:Nerd Convention
END:VEVENT
BEGIN:VEVENT
DTSTART;VALUE=DATE:20201002
DTEND;VALUE=DATE:20201005
DTSTAMP:20260420T151437
CREATED:20200723T204034Z
LAST-MODIFIED:20240217T123800Z
UID:21453-1601596800-1601855999@comic-cons.xyz
SUMMARY:CREATION of the DEAD (Chicago\, Illinois)
DESCRIPTION:Creation Entertainment’s\nCREATION of the DEAD\nA Salute to the TV series The Walking Dead
URL:https://comic-cons.xyz/event/creation-of-the-dead-chicago-illinois/
LOCATION:Renaissance Schaumburg Hotel & Convention Center\, 1551 N. Thoreau Dr.\, Schaumburg\, IL\, 60173\, United States
CATEGORIES:Nerd Convention,The Walking Dead Convention
END:VEVENT
BEGIN:VEVENT
DTSTART;VALUE=DATE:20200501
DTEND;VALUE=DATE:20200504
DTSTAMP:20260420T151437
CREATED:20180413T141011Z
LAST-MODIFIED:20240216T142626Z
UID:4567-1588291200-1588550399@comic-cons.xyz
SUMMARY:*POSTPONED* Treklanta (Atlanta\, Georgia)
DESCRIPTION:Treklanta 2020\, originally scheduled to be held May 1-3 at the Atlanta Buckhead Marriott Hotel & Convention Center\, has been postponed due to the COVID-19 pandemic.
URL:https://comic-cons.xyz/event/treklanta-atlanta-georgia/
LOCATION:Atlanta Marriott Century Center\, 2000 Century Blvd NE\, Atlanta\, GA\, 30345\, United States
CATEGORIES:Nerd Convention
END:VEVENT
BEGIN:VEVENT
DTSTART;VALUE=DATE:20190801
DTEND;VALUE=DATE:20190805
DTSTAMP:20260420T151437
CREATED:20170806T213855Z
LAST-MODIFIED:20240216T142655Z
UID:2573-1564617600-1564963199@comic-cons.xyz
SUMMARY:BronyCon (Baltimore\, Maryland)
DESCRIPTION:BronyCon (2011-2019) was the world’s largest family-friendly convention for and by fans of the animated TV series My Little Pony: Friendship is Magic. 11 events were held\, with the final one in August 2019 drawing in 10\,215 attendees. Though originally planned to run through 2025\, it was announced at the closing ceremonies of the 2018 convention that 2019 would be the final year.
URL:https://comic-cons.xyz/event/bronycon-baltimore-maryland/
LOCATION:Baltimore Convention Center\, 1 W Pratt St\, Baltimore\, MD\, 21201\, United States
CATEGORIES:Nerd Convention
ATTACH;FMTTYPE=image/png:https://comic-cons.xyz/wp-content/uploads/bronycon-sticker-logo.png
END:VEVENT
END:VCALENDAR