BEGIN:VCALENDAR
VERSION:2.0
PRODID:-//2025 Conventions - ECPv6.15.17.1//NONSGML v1.0//EN
CALSCALE:GREGORIAN
METHOD:PUBLISH
X-WR-CALNAME:2025 Conventions
X-ORIGINAL-URL:https://comic-cons.xyz
X-WR-CALDESC:Events for 2025 Conventions
REFRESH-INTERVAL;VALUE=DURATION:PT1H
X-Robots-Tag:noindex
X-PUBLISHED-TTL:PT1H
BEGIN:VTIMEZONE
TZID:America/New_York
BEGIN:DAYLIGHT
TZOFFSETFROM:-0500
TZOFFSETTO:-0400
TZNAME:EDT
DTSTART:20250309T070000
END:DAYLIGHT
BEGIN:STANDARD
TZOFFSETFROM:-0400
TZOFFSETTO:-0500
TZNAME:EST
DTSTART:20251102T060000
END:STANDARD
BEGIN:DAYLIGHT
TZOFFSETFROM:-0500
TZOFFSETTO:-0400
TZNAME:EDT
DTSTART:20260308T070000
END:DAYLIGHT
BEGIN:STANDARD
TZOFFSETFROM:-0400
TZOFFSETTO:-0500
TZNAME:EST
DTSTART:20261101T060000
END:STANDARD
BEGIN:DAYLIGHT
TZOFFSETFROM:-0500
TZOFFSETTO:-0400
TZNAME:EDT
DTSTART:20270314T070000
END:DAYLIGHT
BEGIN:STANDARD
TZOFFSETFROM:-0400
TZOFFSETTO:-0500
TZNAME:EST
DTSTART:20271107T060000
END:STANDARD
END:VTIMEZONE
BEGIN:VTIMEZONE
TZID:America/Chicago
BEGIN:DAYLIGHT
TZOFFSETFROM:-0600
TZOFFSETTO:-0500
TZNAME:CDT
DTSTART:20250309T080000
END:DAYLIGHT
BEGIN:STANDARD
TZOFFSETFROM:-0500
TZOFFSETTO:-0600
TZNAME:CST
DTSTART:20251102T070000
END:STANDARD
BEGIN:DAYLIGHT
TZOFFSETFROM:-0600
TZOFFSETTO:-0500
TZNAME:CDT
DTSTART:20260308T080000
END:DAYLIGHT
BEGIN:STANDARD
TZOFFSETFROM:-0500
TZOFFSETTO:-0600
TZNAME:CST
DTSTART:20261101T070000
END:STANDARD
BEGIN:DAYLIGHT
TZOFFSETFROM:-0600
TZOFFSETTO:-0500
TZNAME:CDT
DTSTART:20270314T080000
END:DAYLIGHT
BEGIN:STANDARD
TZOFFSETFROM:-0500
TZOFFSETTO:-0600
TZNAME:CST
DTSTART:20271107T070000
END:STANDARD
END:VTIMEZONE
BEGIN:VEVENT
DTSTART;VALUE=DATE:20260425
DTEND;VALUE=DATE:20260427
DTSTAMP:20260425T140510
CREATED:20170316T170249Z
LAST-MODIFIED:20250918T110759Z
UID:721-1777075200-1777247999@comic-cons.xyz
SUMMARY:Vermont Sci-Fi & Fantasy Expo (Burlington)
DESCRIPTION:Vermont Sci-Fi & Fantasy Expo is a family friendly event for all ages – delight in whimsical workshops\, ghostbusting demos and role-playing games. Visit over 100 vendors\, cosplayers\, authors\, artists and game designers. \nVermont Sci-Fi & Fantasy Expo Hours\nSaturday 10am – 6pm\nSunday 10am – 6pm \nTickets are $20 for one day or $30 for two days.\nKids 6-12 are $5.\nKids under 6 get in free!\nParking is free!​
URL:https://comic-cons.xyz/event/vermont-scifi-fantasy-expo/
LOCATION:Champlain Valley Exposition\, 105 Pearl St\, Essex Junction\, VT\, 05452\, United States
CATEGORIES:Nerd Convention
END:VEVENT
BEGIN:VEVENT
DTSTART;VALUE=DATE:20260612
DTEND;VALUE=DATE:20260615
DTSTAMP:20260425T140510
CREATED:20240215T113753Z
LAST-MODIFIED:20260107T222005Z
UID:48578-1781222400-1781481599@comic-cons.xyz
SUMMARY:Space Con (San Antonion\, Texas)
DESCRIPTION:SPACECON is America’s newest comic con created by PMX Events and ACE Comic Con. Attendees will see celebrity guests from the likes of Star Wars\, Star Trek\, Guardians of the Galaxy and other intergalactic movies and TV shows. \nCon goers will discover an immersive show experience to get up-close and personal with their favorite celebrities\, voice artists\, and comic artists with hundreds of exhibitors and special attractions to exhilarate any fandom. \nSpace Con Hours\nFriday 11 AM – 8 PM\nSaturday 10 AM – 8 PM\nSunday 10 AM – 5:30 PM \n\n\n\n\n\n\n\nBuy tickets >
URL:https://comic-cons.xyz/event/space-con-san-antonion-texas/
LOCATION:Freeman Expo Halls & Coliseum\, 3201 E Houston Street\, San Antonio\, TX\, 78219\, United States
CATEGORIES:Nerd Convention
END:VEVENT
BEGIN:VEVENT
DTSTART;VALUE=DATE:20260625
DTEND;VALUE=DATE:20260629
DTSTAMP:20260425T140510
CREATED:20170604T050037Z
LAST-MODIFIED:20260111T131854Z
UID:1943-1782345600-1782691199@comic-cons.xyz
SUMMARY:Star Trek Set Tour Trekonderoga Event (Ticonderoga\, New York)
DESCRIPTION:The Star Trek Set Tour is excited to welcome THE CAPTAIN will always be back! Space is limited\, get your tickets today!\nWilliam Shatner comic cons guest appearances > \nStar Trek Tour Hours:\nFall (Sep. to Oct.)\nTue.-Fri. 10-4\nSat. 10-6\nSun. 11-4 \nWinter (Nov. to Apr.)\nSat. 10-5\nSun. 11-4 \n\n\n\n\n\n\n\nSummer (May to Aug.)\nTue.-Sat. 10-6\nSun. 11-5
URL:https://comic-cons.xyz/event/star-trek-set-tour-ticonderoga-new-york/
LOCATION:Trekonderoga\, 112 Montcalm St\, Ticonderoga\, NY\, 12883\, United States
CATEGORIES:Comic Con,Nerd Convention
ATTACH;FMTTYPE=image/jpeg:https://comic-cons.xyz/wp-content/uploads/Star_Trek_Set_Tours.jpg
END:VEVENT
BEGIN:VEVENT
DTSTART;VALUE=DATE:20260710
DTEND;VALUE=DATE:20260713
DTSTAMP:20260425T140510
CREATED:20171018T114132Z
LAST-MODIFIED:20251126T135641Z
UID:3393-1783641600-1783900799@comic-cons.xyz
SUMMARY:G-FEST (Chicago\, Illinois)
DESCRIPTION:G-FEST is a family-oriented Godzilla convention which caters to a wide variety of interests within the kaiju genre. G-FEST features presentations and Q & A sessions by actors and crew from the Japanese Godzilla  films\, fan presentations on topics of interest\, contests and gaming\, new and classic kaiju movies\, the western world’s largest kaiju-oriented dealers room\, and lots of fun and camaraderie. \nG-FEST will be at the Hyatt Regency O’Hare in Rosemont\, Illinois. The hotel is only 5 minutes away from O’Hare International Airport\, to which it offers complimentary 24-hour shuttle transportation\, and is within walking distance of the train station to Chicago. \nG-Fest schedule >\nGuests > \n\n\n\n\n\n\n\nFAQs\nWhat does the G in G-FEST stand for?\nG-Fest is also known as Godzilla Fest or G-FEST. The G stands for Godzilla. \nHow many people attend G-FEST?\nOver 2500 monster fans attend G-FEST every year in metro Chicago area. \nWho is the owner of G-FEST?\nG-Fest was founded by G-FAN magazine editor and publisher J. D. Lees. The annual convention devoted to the kaiju film genre is sponsored by Daikaiju Enterprises\, Ltd.
URL:https://comic-cons.xyz/event/g-fest-chicago-illinois/
LOCATION:Hyatt Regency O’Hare Chicago\, 9300 W Bryn Mawr Ave\, Rosemont\, IL\, 60018\, United States
CATEGORIES:Nerd Convention
ATTACH;FMTTYPE=image/jpeg:https://comic-cons.xyz/wp-content/uploads/g-fest.jpg
END:VEVENT
BEGIN:VEVENT
DTSTART;VALUE=DATE:20260710
DTEND;VALUE=DATE:20260713
DTSTAMP:20260425T140510
CREATED:20220524T230359Z
LAST-MODIFIED:20260110T001450Z
UID:41893-1783641600-1783900799@comic-cons.xyz
SUMMARY:BotCon Transformers Convention (Chicago\, Illinois)
DESCRIPTION:The BotCon 30th Anniversary takes it back to where it all began this summer in Ft. Wayne\, Indiana! 2024 marks not just the 40th anniversary of Transformers\, but also the 30th anniversary of THE Original Transformers Collectors’ and Fan Convention… BotCon! Botcon 2025 will be back in Ft. Wayne Indiana. \nRegardless of where you live in the U.S. or abroad\, you will want to join us at BotCon this year for a Transformers convention like never before! \nBotCon Hours\nThursday 4:00 pm – 10:00 pm\nFriday 11:30 am – 5:00 pm\nSaturday 10:00 am – 5:00 pm\nSunday 9:00 am – 3:00 pm \n\n\n\n\n\n\n\nTransformers cosplay >\nTransformers logos >
URL:https://comic-cons.xyz/event/botcon/
LOCATION:Renaissance Schaumburg Hotel & Convention Center\, 1551 N. Thoreau Dr.\, Schaumburg\, IL\, 60173\, United States
CATEGORIES:Comic Con,Nerd Convention
ATTACH;FMTTYPE=image/jpeg:https://comic-cons.xyz/wp-content/uploads/Botcon.com_.jpg
END:VEVENT
BEGIN:VEVENT
DTSTART;VALUE=DATE:20261023
DTEND;VALUE=DATE:20261026
DTSTAMP:20260425T140510
CREATED:20170302T223853Z
LAST-MODIFIED:20251126T140103Z
UID:270-1792713600-1792972799@comic-cons.xyz
SUMMARY:TFcon USA (Orlando\, Florida)
DESCRIPTION:If you are a fan of Transformers\, then you are sure to enjoy geeking out at a Transformers convention. BotCon was the original Transformers Convention and started in 1994. Featured guests usually involved voice actors\, artists and writers. One of the most popular features was toy exclusives made available for its attendees. It became highly anticipated and sought after since you can’t purchase it anywhere else. 2016 was the last year that BotCon was held. Download some Transformers logos and check out Transformers cosplay. \nNow TFCon has replaced BotCon and is held annually\, one in US and one in Toronto Canada. Keep in mind there is another Botcon event that started in 2022.  \nTFcon USA  Hours\nSaturday 9am-6pm\nSunday 10am-4pm \n\n\n\n\n\n\n\nTFCon Information\nTFCon exclusives > \nTicket Prices\nPREMIUM WEEKEND PASS: Includes advance option to purchase convention exclusives on Friday night in a private area\, front of the line for early admission to the TFcon dealer room Saturday morning\, access to TFcon programming and show floor on both days – $110\nWEEKEND PASS: Includes early admission on Saturday\, access to TFcon programming all weekend\, and show floor on both days – $55\nDELUXE SATURDAY PASS: Includes early admission on Saturday\, access to TFcon programming\, and show floor – $40\nSATURDAY GENERAL ADMISSION: Entry after 12 pm\, access to TFcon programming\, and show floor – $30\nSUNDAY PASS: Access to TFcon programming and show floor on Sunday – $25\nKIDS PASS: Children between 5 and 12 are $5. There is no charge for children under 5 years of age.\nBuy TFCon tickets >
URL:https://comic-cons.xyz/event/tfcon-usa/
LOCATION:DoubleTree by Hilton Hotel Orlando at SeaWorld\, 10100 International Dr\, Orlando\, FL\, 32821\, United States
CATEGORIES:Comic Con,Nerd Convention
ATTACH;FMTTYPE=image/jpeg:https://comic-cons.xyz/wp-content/uploads/TFcon-Chicago-2025.jpg
END:VEVENT
BEGIN:VEVENT
DTSTART;VALUE=DATE:20261106
DTEND;VALUE=DATE:20261109
DTSTAMP:20260425T140510
CREATED:20240130T232122Z
LAST-MODIFIED:20260109T235933Z
UID:48407-1793923200-1794182399@comic-cons.xyz
SUMMARY:CONjuration (Duluth / Atlanta\, Georgia)
DESCRIPTION:Fan of Magical Fantasy\, such as Harry Potter\, Lord of the Rings\, Supernatural\, Dungeons & Dragons\, Narnia\, Buffy\, Encanto\, and more? Join the convention from Nov. 17-19 in Duluth\, GA for CONjuration. It’s more than a magical Harry Potter convention\, it is an interactive experience for fans of ALL magical fantasy!
URL:https://comic-cons.xyz/event/conjuration-duluth-georgia/
LOCATION:Sonesta Gwinnett Place Atlanta\, 1775 Pleasant Hill Rd\, Duluth\, GA\, 30096\, United States
CATEGORIES:Nerd Convention
END:VEVENT
BEGIN:VEVENT
DTSTART;VALUE=DATE:20261204
DTEND;VALUE=DATE:20261207
DTSTAMP:20260425T140510
CREATED:20240912T204754Z
LAST-MODIFIED:20260106T235901Z
UID:50513-1796342400-1796601599@comic-cons.xyz
SUMMARY:PAX Unplugged (Philadelphia\, Pennsylvania)
DESCRIPTION:PAX Unplugged is a tabletop gaming-focused event specifically tailored to lovers of board games\, RPGs\, miniatures\, cards\, and more. Featuring thought-provoking panels\, a massive expo hall filled with the best publishers and studios\, new game demos\, tournaments\, and a community experience unlike any other. \nPAX Unplugged Hours\nFriday 10:00 AM – Midnight\nSaturday 10:00 AM – Midnight\nSunday 10:00 AM – 6:00 PM
URL:https://comic-cons.xyz/event/pax-unplugged/
LOCATION:Philadelphia Convention Center\, 1101 Arch Street\, Philadelphia\, PA\,  19107\, United States
CATEGORIES:Nerd Convention
END:VEVENT
END:VCALENDAR