BEGIN:VCALENDAR
VERSION:2.0
PRODID:-//2025 Conventions - ECPv6.15.17.1//NONSGML v1.0//EN
CALSCALE:GREGORIAN
METHOD:PUBLISH
X-ORIGINAL-URL:https://comic-cons.xyz
X-WR-CALDESC:Events for 2025 Conventions
REFRESH-INTERVAL;VALUE=DURATION:PT1H
X-Robots-Tag:noindex
X-PUBLISHED-TTL:PT1H
BEGIN:VTIMEZONE
TZID:America/New_York
BEGIN:DAYLIGHT
TZOFFSETFROM:-0500
TZOFFSETTO:-0400
TZNAME:EDT
DTSTART:20250309T070000
END:DAYLIGHT
BEGIN:STANDARD
TZOFFSETFROM:-0400
TZOFFSETTO:-0500
TZNAME:EST
DTSTART:20251102T060000
END:STANDARD
BEGIN:DAYLIGHT
TZOFFSETFROM:-0500
TZOFFSETTO:-0400
TZNAME:EDT
DTSTART:20260308T070000
END:DAYLIGHT
BEGIN:STANDARD
TZOFFSETFROM:-0400
TZOFFSETTO:-0500
TZNAME:EST
DTSTART:20261101T060000
END:STANDARD
BEGIN:DAYLIGHT
TZOFFSETFROM:-0500
TZOFFSETTO:-0400
TZNAME:EDT
DTSTART:20270314T070000
END:DAYLIGHT
BEGIN:STANDARD
TZOFFSETFROM:-0400
TZOFFSETTO:-0500
TZNAME:EST
DTSTART:20271107T060000
END:STANDARD
END:VTIMEZONE
BEGIN:VEVENT
DTSTART;VALUE=DATE:20260702
DTEND;VALUE=DATE:20260703
DTSTAMP:20260419T022639
CREATED:20240214T003827Z
LAST-MODIFIED:20250703T095522Z
UID:48555-1782950400-1783036799@comic-cons.xyz
SUMMARY:World UFO Day
DESCRIPTION:World UFO Day is an annual event dedicated to raising awareness about unidentified flying objects (UFOs) and promoting discussions about the possibility of extraterrestrial life and the existence of advanced civilizations beyond Earth. It is observed on July 2nd each year. \nThe date of July 2nd was chosen because it marks the anniversary of the alleged UFO crash in Roswell\, New Mexico\, in 1947. The incident in Roswell has become one of the most famous and controversial UFO-related events in history\, with various theories and speculation surrounding what actually occurred. Roswell Galacticon is usually held the weekend of July 2nd. \nWorld UFO Day is celebrated around the world through various events\, including UFO-themed festivals\, conferences\, lectures\, movie screenings\, and social media campaigns. It serves as a platform for UFO enthusiasts\, researchers\, scientists\, and the general public to come together to share information\, discuss sightings\, debate theories\, and explore the mysteries of the universe. \n\n\n\n\n\n\n\nWorld UFO Day is considered amazing by many because it brings attention to the intriguing topic of unidentified flying objects (UFOs) and encourages discussions about the possibility of extraterrestrial life and advanced civilizations beyond Earth. \n• Exploration of the Unknown: UFOs represent one of the greatest mysteries of our time. World UFO Day provides a platform for people to explore and discuss the unknown aspects of our universe\, sparking curiosity and wonder about what lies beyond our planet. \n• Promotes Open-Mindedness: World UFO Day encourages open-mindedness and critical thinking. While some UFO sightings can be explained by natural phenomena or human-made objects\, others remain unexplained\, prompting people to consider alternative explanations and possibilities. \n• Brings People Together: World UFO Day brings together individuals from diverse backgrounds who share a common interest in the search for extraterrestrial life and the exploration of the universe. It fosters a sense of community among UFO enthusiasts and encourages the exchange of ideas and experiences. \n• Inspires Scientific Inquiry: The study of UFOs can inspire scientific inquiry and research into the mysteries of the cosmos. Scientists and researchers may use UFO sightings as a basis for investigating atmospheric phenomena\, technological advancements\, and the potential for life beyond Earth. \n• Pop Culture Phenomenon: UFOs have captured the imagination of people around the world and have become a significant aspect of popular culture. World UFO Day provides an opportunity to celebrate and explore the impact of UFOs on literature\, film\, television\, and other forms of media.
URL:https://comic-cons.xyz/event/world-ufo-day/
LOCATION:Online Event
CATEGORIES:Geek Holiday
END:VEVENT
END:VCALENDAR