BEGIN:VCALENDAR
VERSION:2.0
PRODID:-//2025 Conventions - ECPv6.15.17.1//NONSGML v1.0//EN
CALSCALE:GREGORIAN
METHOD:PUBLISH
X-WR-CALNAME:2025 Conventions
X-ORIGINAL-URL:https://comic-cons.xyz
X-WR-CALDESC:Events for 2025 Conventions
REFRESH-INTERVAL;VALUE=DURATION:PT1H
X-Robots-Tag:noindex
X-PUBLISHED-TTL:PT1H
BEGIN:VTIMEZONE
TZID:America/New_York
BEGIN:DAYLIGHT
TZOFFSETFROM:-0500
TZOFFSETTO:-0400
TZNAME:EDT
DTSTART:20240310T070000
END:DAYLIGHT
BEGIN:STANDARD
TZOFFSETFROM:-0400
TZOFFSETTO:-0500
TZNAME:EST
DTSTART:20241103T060000
END:STANDARD
BEGIN:DAYLIGHT
TZOFFSETFROM:-0500
TZOFFSETTO:-0400
TZNAME:EDT
DTSTART:20250309T070000
END:DAYLIGHT
BEGIN:STANDARD
TZOFFSETFROM:-0400
TZOFFSETTO:-0500
TZNAME:EST
DTSTART:20251102T060000
END:STANDARD
BEGIN:DAYLIGHT
TZOFFSETFROM:-0500
TZOFFSETTO:-0400
TZNAME:EDT
DTSTART:20260308T070000
END:DAYLIGHT
BEGIN:STANDARD
TZOFFSETFROM:-0400
TZOFFSETTO:-0500
TZNAME:EST
DTSTART:20261101T060000
END:STANDARD
END:VTIMEZONE
BEGIN:VEVENT
DTSTART;VALUE=DATE:20250310
DTEND;VALUE=DATE:20250311
DTSTAMP:20260421T160743
CREATED:20230303T194644Z
LAST-MODIFIED:20240325T215723Z
UID:44743-1741564800-1741651199@comic-cons.xyz
SUMMARY:Nintendo MAR10 Day
DESCRIPTION:Nintendo’s Mario Day\, written as MAR10 Day starts on March 10 with a month’s worth of activities. Get it now? \nHighlights:\n• MAR10 Day My Nintendo Missions & Rewards\n• Enjoy My Nintendo rewards\, in-store events at Nintendo New York\, sales\, and sweepstakes in honor of Mario Day\n• Events at Gamestop featuring the latest games from Nintendo. Free Mario-themed giveaways (March 16\, 12pm local time)\n• Save on Select Mario Games from Online Nintendo Store\n• Nintendo’s Mario Kart 8 Deluxe tournament with a chance to win 1\,000 My Nintendo Gold Points\n• SUPER NINTENDO WORLD Opening at Universal Studios Hollywood\n• Play Nintendo Mario games \nSuper Mario Bros logos >
URL:https://comic-cons.xyz/event/nintendo-mar10-mario-day/
LOCATION:Online Event
CATEGORIES:Geek Holiday,Online Event
ATTACH;FMTTYPE=image/png:https://comic-cons.xyz/wp-content/uploads/Nintendo-Mario-Day.png
END:VEVENT
END:VCALENDAR