BEGIN:VCALENDAR
VERSION:2.0
PRODID:-//2025 Conventions - ECPv6.15.17.1//NONSGML v1.0//EN
CALSCALE:GREGORIAN
METHOD:PUBLISH
X-WR-CALNAME:2025 Conventions
X-ORIGINAL-URL:https://comic-cons.xyz
X-WR-CALDESC:Events for 2025 Conventions
REFRESH-INTERVAL;VALUE=DURATION:PT1H
X-Robots-Tag:noindex
X-PUBLISHED-TTL:PT1H
BEGIN:VTIMEZONE
TZID:America/Chicago
BEGIN:DAYLIGHT
TZOFFSETFROM:-0600
TZOFFSETTO:-0500
TZNAME:CDT
DTSTART:20210314T080000
END:DAYLIGHT
BEGIN:STANDARD
TZOFFSETFROM:-0500
TZOFFSETTO:-0600
TZNAME:CST
DTSTART:20211107T070000
END:STANDARD
BEGIN:DAYLIGHT
TZOFFSETFROM:-0600
TZOFFSETTO:-0500
TZNAME:CDT
DTSTART:20220313T080000
END:DAYLIGHT
BEGIN:STANDARD
TZOFFSETFROM:-0500
TZOFFSETTO:-0600
TZNAME:CST
DTSTART:20221106T070000
END:STANDARD
BEGIN:DAYLIGHT
TZOFFSETFROM:-0600
TZOFFSETTO:-0500
TZNAME:CDT
DTSTART:20230312T080000
END:DAYLIGHT
BEGIN:STANDARD
TZOFFSETFROM:-0500
TZOFFSETTO:-0600
TZNAME:CST
DTSTART:20231105T070000
END:STANDARD
END:VTIMEZONE
BEGIN:VEVENT
DTSTART;VALUE=DATE:20221008
DTEND;VALUE=DATE:20221010
DTSTAMP:20260422T123416
CREATED:20220322T123617Z
LAST-MODIFIED:20230727T203545Z
UID:41605-1665187200-1665359999@comic-cons.xyz
SUMMARY:Stranger Con (Chicago\, Illinois)
DESCRIPTION:Creation Entertainment’s STRANGER CON\nA convention salute to the TV series Stranger Things. Meet and greet actors from Stranger Things and interact with them in ways you never thought possible during Stranger Con. \nStranger Things News > \n \n\n\n\n\n\n\n\nTweets by CreationEnt
URL:https://comic-cons.xyz/event/stranger-con-chicago-illinois/
LOCATION:Renaissance Schaumburg Hotel & Convention Center\, 1551 N. Thoreau Dr.\, Schaumburg\, IL\, 60173\, United States
CATEGORIES:Comic Con
ATTACH;FMTTYPE=image/jpeg:https://comic-cons.xyz/wp-content/uploads/Stranger-Con.jpg
END:VEVENT
END:VCALENDAR