BEGIN:VCALENDAR
VERSION:2.0
PRODID:-//2025 Conventions - ECPv6.15.17.1//NONSGML v1.0//EN
CALSCALE:GREGORIAN
METHOD:PUBLISH
X-ORIGINAL-URL:https://comic-cons.xyz
X-WR-CALDESC:Events for 2025 Conventions
REFRESH-INTERVAL;VALUE=DURATION:PT1H
X-Robots-Tag:noindex
X-PUBLISHED-TTL:PT1H
BEGIN:VTIMEZONE
TZID:America/Los_Angeles
BEGIN:DAYLIGHT
TZOFFSETFROM:-0800
TZOFFSETTO:-0700
TZNAME:PDT
DTSTART:20240310T100000
END:DAYLIGHT
BEGIN:STANDARD
TZOFFSETFROM:-0700
TZOFFSETTO:-0800
TZNAME:PST
DTSTART:20241103T090000
END:STANDARD
BEGIN:DAYLIGHT
TZOFFSETFROM:-0800
TZOFFSETTO:-0700
TZNAME:PDT
DTSTART:20250309T100000
END:DAYLIGHT
BEGIN:STANDARD
TZOFFSETFROM:-0700
TZOFFSETTO:-0800
TZNAME:PST
DTSTART:20251102T090000
END:STANDARD
BEGIN:DAYLIGHT
TZOFFSETFROM:-0800
TZOFFSETTO:-0700
TZNAME:PDT
DTSTART:20260308T100000
END:DAYLIGHT
BEGIN:STANDARD
TZOFFSETFROM:-0700
TZOFFSETTO:-0800
TZNAME:PST
DTSTART:20261101T090000
END:STANDARD
END:VTIMEZONE
BEGIN:VEVENT
DTSTART;VALUE=DATE:20251129
DTEND;VALUE=DATE:20251201
DTSTAMP:20260426T000945
CREATED:20250827T185617Z
LAST-MODIFIED:20260107T015514Z
UID:51429-1764374400-1764547199@comic-cons.xyz
SUMMARY:WasabiCon (Portland\, Oregon)
DESCRIPTION:WasabiCon PDX is a consumer focused media event designed to connect fans together in a fun\, friendly\, and entertaining environment. Started in Portland in 2012 under the name Newcon PDX\, WasabiCon PDX is one of the PNW’s most popular anime conventions. The event focuses on five key facets of fandom: Anime (including Manga & Asian Culture)\, Cosplay\, Kpop\, Tabletop Gaming\, and Video Games. \nWasabiCon Portland Hours\nSAT 10 AM to 7 PM\nSUN 10 AM to 6 PM
URL:https://comic-cons.xyz/event/wasabicon-portland-oregon/
LOCATION:Hilton Portland Downtown\, 921 SW 6th Ave\, Portland\, OR\, 97204\, United States
CATEGORIES:Anime Con
END:VEVENT
END:VCALENDAR