BEGIN:VCALENDAR
VERSION:2.0
PRODID:-//2025 Conventions - ECPv6.15.17.1//NONSGML v1.0//EN
CALSCALE:GREGORIAN
METHOD:PUBLISH
X-ORIGINAL-URL:https://comic-cons.xyz
X-WR-CALDESC:Events for 2025 Conventions
REFRESH-INTERVAL;VALUE=DURATION:PT1H
X-Robots-Tag:noindex
X-PUBLISHED-TTL:PT1H
BEGIN:VTIMEZONE
TZID:America/New_York
BEGIN:DAYLIGHT
TZOFFSETFROM:-0500
TZOFFSETTO:-0400
TZNAME:EDT
DTSTART:20250309T070000
END:DAYLIGHT
BEGIN:STANDARD
TZOFFSETFROM:-0400
TZOFFSETTO:-0500
TZNAME:EST
DTSTART:20251102T060000
END:STANDARD
BEGIN:DAYLIGHT
TZOFFSETFROM:-0500
TZOFFSETTO:-0400
TZNAME:EDT
DTSTART:20260308T070000
END:DAYLIGHT
BEGIN:STANDARD
TZOFFSETFROM:-0400
TZOFFSETTO:-0500
TZNAME:EST
DTSTART:20261101T060000
END:STANDARD
BEGIN:DAYLIGHT
TZOFFSETFROM:-0500
TZOFFSETTO:-0400
TZNAME:EDT
DTSTART:20270314T070000
END:DAYLIGHT
BEGIN:STANDARD
TZOFFSETFROM:-0400
TZOFFSETTO:-0500
TZNAME:EST
DTSTART:20271107T060000
END:STANDARD
END:VTIMEZONE
BEGIN:VTIMEZONE
TZID:America/Chicago
BEGIN:DAYLIGHT
TZOFFSETFROM:-0600
TZOFFSETTO:-0500
TZNAME:CDT
DTSTART:20250309T080000
END:DAYLIGHT
BEGIN:STANDARD
TZOFFSETFROM:-0500
TZOFFSETTO:-0600
TZNAME:CST
DTSTART:20251102T070000
END:STANDARD
BEGIN:DAYLIGHT
TZOFFSETFROM:-0600
TZOFFSETTO:-0500
TZNAME:CDT
DTSTART:20260308T080000
END:DAYLIGHT
BEGIN:STANDARD
TZOFFSETFROM:-0500
TZOFFSETTO:-0600
TZNAME:CST
DTSTART:20261101T070000
END:STANDARD
BEGIN:DAYLIGHT
TZOFFSETFROM:-0600
TZOFFSETTO:-0500
TZNAME:CDT
DTSTART:20270314T080000
END:DAYLIGHT
BEGIN:STANDARD
TZOFFSETFROM:-0500
TZOFFSETTO:-0600
TZNAME:CST
DTSTART:20271107T070000
END:STANDARD
END:VTIMEZONE
BEGIN:VEVENT
DTSTART;VALUE=DATE:20261119
DTEND;VALUE=DATE:20261123
DTSTAMP:20260424T220916
CREATED:20180415T004111Z
LAST-MODIFIED:20260110T000020Z
UID:4598-1795046400-1795391999@comic-cons.xyz
SUMMARY:Anime Weekend Atlanta (Georgia)
DESCRIPTION:AWA\, or Anime Weekend Atlanta\, is a 4 day celebration of Japanese culture\, anime (animation) and manga (comics)\, with a dash of general pop-culture that takes place at the Cobb Galleria\, the Renaissance Waverly Hotel in Atlanta\, Georgia. \nAnime Weekend Atlanta Exhibit Hall Hours\nThursday Closed\nFriday 10AM – 7PM\nSaturday 10AM – 7PM\nSunday 10AM – 5PM \nPanel Hours\nThursday 1PM – 4AM\nFriday 9AM – 4AM\nSaturday 9AM – 4AM\nSunday 9AM – 6PM \n\n\n\n\n\n\n\nRegister & buy tickets >
URL:https://comic-cons.xyz/event/anime-weekend-atlanta-georgia/
LOCATION:Georgia World Congress Center\, 285 Andrew Young International Blvd NW\, Atlanta\, GA\, 30313\, United States
CATEGORIES:Anime Con
END:VEVENT
BEGIN:VEVENT
DTSTART;VALUE=DATE:20261120
DTEND;VALUE=DATE:20261123
DTSTAMP:20260424T220916
CREATED:20170718T043735Z
LAST-MODIFIED:20260107T230618Z
UID:2308-1795132800-1795391999@comic-cons.xyz
SUMMARY:Anime USA (Washington DC / Virginia)
DESCRIPTION:In 1999\, a group of anime fans came together and started Anime USA\, held in Washington DC area\, a three-day convention celebrating Japanese animation\, art\, culture\, history\, and fashion. In 2004\, Anime USA formed a non-profit educational organization to host the convention. Anime USA’s mission is to promote\, as well as educate the public about Japanese arts and popular culture. \nProgramming Hours\nFriday 9am – 12:30am\nSaturday 9am ‐ 2am\nSunday 9am ‐ 5pm \nVideo Gaming\nFriday 12pm – 1am\nSaturday 10am – 1am\nSunday 10am – 3pm \n\n\n\n\n\n\n\nBuy Tickets > \nPrevious Anime USA locations:\n1999: Crowne Plaza\, Crystal City\, VA\n2000–2001: Holiday Inn Rosslyn Westpark Hotel at Key Bridge\, Arlington\n2002–2007: Sheraton Premiere at Tyson’s Corner\n2007–2011: Hyatt Regency Crystal City\n2012–2019: Washington Marriott Wardman Park\n2022-2023: Hyatt Regency Crystal City
URL:https://comic-cons.xyz/event/anime-usa-washington-dc/
LOCATION:Hyatt Regency Crystal City\, 2799 Richmond Hwy\, Arlington\, VA\, 22202
CATEGORIES:Anime Con
END:VEVENT
BEGIN:VEVENT
DTSTART;VALUE=DATE:20261120
DTEND;VALUE=DATE:20261123
DTSTAMP:20260424T220916
CREATED:20230621T192237Z
LAST-MODIFIED:20260110T150551Z
UID:45770-1795132800-1795391999@comic-cons.xyz
SUMMARY:Twin Cities Con (Minneapolis / St. Paul\, Minnesota)
DESCRIPTION:Twin Cities Con in Minneapolis / St.Paul\, Minnesota is a celebration of comics\, toys\, TV\, film\, art\, cosplay\, games\, and all things nerdy! \nShow Hours\nFriday 12 pm -7 pm\nSaturday 10 am – 7 pm\nSunday 10 am – 5 pm
URL:https://comic-cons.xyz/event/twin-cities-con-minneapolis-st-paul-minnesota/
LOCATION:Minneapolis Convention Center\, 1301 2nd Ave S\, Minneapolis\, MN 55403\, Minneapolis\, MN\, 55403\, United States
CATEGORIES:Comic Con
END:VEVENT
BEGIN:VEVENT
DTSTART;VALUE=DATE:20261120
DTEND;VALUE=DATE:20261123
DTSTAMP:20260424T220916
CREATED:20240718T221645Z
LAST-MODIFIED:20260113T224200Z
UID:49871-1795132800-1795391999@comic-cons.xyz
SUMMARY:Colossalcon North (Wisconsin Dells\, Wisconsin)
DESCRIPTION:Colossalcon North is a three-day event that features a variety of entertainment in a diverse\, multi-function\, crowd-friendly environment. One ticket price gives you access to all Concerts\, Live Acts\, and Performers to industry and media guests\, DJs\, artists\, and vendors. \nColossalcon North Convention Hours\nFriday 12p-3a\nSaturday 11a-3a\nSunday 10a-5p
URL:https://comic-cons.xyz/event/colossalcon-north-wisconsin-dells-wisconsin/
LOCATION:Kalahari Resorts & Conventions (WI)\, 1305 Kalahari Dr\, Wisconsin Dells\, WI\, 53965\, United States
CATEGORIES:Anime Con
END:VEVENT
BEGIN:VEVENT
DTSTART;VALUE=DATE:20261121
DTEND;VALUE=DATE:20261122
DTSTAMP:20260424T220916
CREATED:20260110T150241Z
LAST-MODIFIED:20260110T150241Z
UID:51740-1795219200-1795305599@comic-cons.xyz
SUMMARY:Blue Water International Comic Con (Port Huron\, Michigan)
DESCRIPTION:The Bluewater Comic Con is the affordable Comic Book and Pop Culture Experience. Thousands of comic books\, action figures\, toys\, games\, and original art\, all under one roof. There is also Cosplay\, Panels\, and Contests. Meet and greet with national and local comic book artists and writers.
URL:https://comic-cons.xyz/event/blue-water-international-comic-con-port-huron-michigan/
LOCATION:Bluewater Convention Center\, 800 Harker Street\, Port Huron\, MI\, 48060\, United States
CATEGORIES:Comic Con
END:VEVENT
BEGIN:VEVENT
DTSTART;VALUE=DATE:20261121
DTEND;VALUE=DATE:20261123
DTSTAMP:20260424T220916
CREATED:20220922T141443Z
LAST-MODIFIED:20251025T132722Z
UID:43252-1795219200-1795391999@comic-cons.xyz
SUMMARY:Holiday St. Pete (St. Petersburg\, Florida)
DESCRIPTION:Holiday St. Pete is a family-friendly convention and features comics\, anime\, science fiction\, fantasy\, and gaming as well as world-class cosplay. \nHoliday St. Pete Hours\nSaturday 10am – 11pm\nSunday 11am-5pm
URL:https://comic-cons.xyz/event/holiday-st-pete-florida/
LOCATION:Hilton St. Petersburg Bayfront\, 333 1st St SE\, St. Petersburg\, FL\, 33701\, United States
CATEGORIES:Comic Con
ATTACH;FMTTYPE=image/png:https://comic-cons.xyz/wp-content/uploads/Holiday-Cosplay-Tampa-Bay-1.png
END:VEVENT
END:VCALENDAR