BEGIN:VCALENDAR
VERSION:2.0
PRODID:-//2025 Conventions - ECPv6.15.17.1//NONSGML v1.0//EN
CALSCALE:GREGORIAN
METHOD:PUBLISH
X-ORIGINAL-URL:https://comic-cons.xyz
X-WR-CALDESC:Events for 2025 Conventions
REFRESH-INTERVAL;VALUE=DURATION:PT1H
X-Robots-Tag:noindex
X-PUBLISHED-TTL:PT1H
BEGIN:VTIMEZONE
TZID:America/Los_Angeles
BEGIN:DAYLIGHT
TZOFFSETFROM:-0800
TZOFFSETTO:-0700
TZNAME:PDT
DTSTART:20250309T100000
END:DAYLIGHT
BEGIN:STANDARD
TZOFFSETFROM:-0700
TZOFFSETTO:-0800
TZNAME:PST
DTSTART:20251102T090000
END:STANDARD
BEGIN:DAYLIGHT
TZOFFSETFROM:-0800
TZOFFSETTO:-0700
TZNAME:PDT
DTSTART:20260308T100000
END:DAYLIGHT
BEGIN:STANDARD
TZOFFSETFROM:-0700
TZOFFSETTO:-0800
TZNAME:PST
DTSTART:20261101T090000
END:STANDARD
BEGIN:DAYLIGHT
TZOFFSETFROM:-0800
TZOFFSETTO:-0700
TZNAME:PDT
DTSTART:20270314T100000
END:DAYLIGHT
BEGIN:STANDARD
TZOFFSETFROM:-0700
TZOFFSETTO:-0800
TZNAME:PST
DTSTART:20271107T090000
END:STANDARD
END:VTIMEZONE
BEGIN:VEVENT
DTSTART;VALUE=DATE:20261113
DTEND;VALUE=DATE:20261116
DTSTAMP:20260424T014544
CREATED:20170718T043107Z
LAST-MODIFIED:20260107T015441Z
UID:2303-1794528000-1794787199@comic-cons.xyz
SUMMARY:Kumoricon (Portland\, Oregon)
DESCRIPTION:
URL:https://comic-cons.xyz/event/kumoricon-portland-oregon/
LOCATION:Oregon Convention Center\, 777 NE Martin Luther King Jr Blvd\, Portland\, OR\, 97232\, United States
CATEGORIES:Anime Con
END:VEVENT
BEGIN:VEVENT
DTSTART;VALUE=DATE:20261113
DTEND;VALUE=DATE:20261116
DTSTAMP:20260424T014544
CREATED:20221008T122417Z
LAST-MODIFIED:20260107T225729Z
UID:43576-1794528000-1794787199@comic-cons.xyz
SUMMARY:TwitchCon (San Diego\, California)
DESCRIPTION:TwitchCon will be hosted in San Diego\, California. There will also be an Europe version of TwitchCon. \nFAQs\nWhat is TwitchCon?\nTwitchCon is an annual video game convention dedicated to the live streaming platform Twitch. TwitchCon also serves as an opportunity for streamers and content creators to improve their stream quality and grow their brand. TwitchCon typically takes place in different cities each year\, attracting thousands of attendees from around the world. \nHow much does TwitchCon cost?\nFor 2023\, TwitchCon ticket prices were at $149 for a one-day pass (Friday or Saturday) and $229 for a three-day pass. \n\n\n\n\n\n\n\nFollow TwitchCon on Twitter for more info. \nCan anyone go to TwitchCon?\nYes\, anyone can attend the convention. TwitchCon is for the entire Twitch community. While there will be sessions and some content geared towards streaming\, there are plenty of activities for non-streamers as well.
URL:https://comic-cons.xyz/event/twitchcon/
LOCATION:San Diego Convention Center\, 111 W. Harbor Dr.\, San Diego\, CA\, 92101\, United States
CATEGORIES:Gaming Convention
ATTACH;FMTTYPE=image/png:https://comic-cons.xyz/wp-content/uploads/TwitchCon-logo.png
END:VEVENT
END:VCALENDAR