BEGIN:VCALENDAR
VERSION:2.0
PRODID:-//2025 Conventions - ECPv6.15.17.1//NONSGML v1.0//EN
CALSCALE:GREGORIAN
METHOD:PUBLISH
X-WR-CALNAME:2025 Conventions
X-ORIGINAL-URL:https://comic-cons.xyz
X-WR-CALDESC:Events for 2025 Conventions
REFRESH-INTERVAL;VALUE=DURATION:PT1H
X-Robots-Tag:noindex
X-PUBLISHED-TTL:PT1H
BEGIN:VTIMEZONE
TZID:America/New_York
BEGIN:DAYLIGHT
TZOFFSETFROM:-0500
TZOFFSETTO:-0400
TZNAME:EDT
DTSTART:20250309T070000
END:DAYLIGHT
BEGIN:STANDARD
TZOFFSETFROM:-0400
TZOFFSETTO:-0500
TZNAME:EST
DTSTART:20251102T060000
END:STANDARD
BEGIN:DAYLIGHT
TZOFFSETFROM:-0500
TZOFFSETTO:-0400
TZNAME:EDT
DTSTART:20260308T070000
END:DAYLIGHT
BEGIN:STANDARD
TZOFFSETFROM:-0400
TZOFFSETTO:-0500
TZNAME:EST
DTSTART:20261101T060000
END:STANDARD
BEGIN:DAYLIGHT
TZOFFSETFROM:-0500
TZOFFSETTO:-0400
TZNAME:EDT
DTSTART:20270314T070000
END:DAYLIGHT
BEGIN:STANDARD
TZOFFSETFROM:-0400
TZOFFSETTO:-0500
TZNAME:EST
DTSTART:20271107T060000
END:STANDARD
END:VTIMEZONE
BEGIN:VEVENT
DTSTART;VALUE=DATE:20261106
DTEND;VALUE=DATE:20261109
DTSTAMP:20260423T201602
CREATED:20221003T124853Z
LAST-MODIFIED:20260107T114300Z
UID:43473-1793923200-1794182399@comic-cons.xyz
SUMMARY:Rhode Island Comic Con (Providence)
DESCRIPTION:Held in the smallest state in the US\, Rhode Island Comic Con\, also known as RI Comic Con\, has grown into one of the biggest pop-culture events in
URL:https://comic-cons.xyz/event/rhode-island-comic-con-providence/
LOCATION:Rhode Island Convention Center\, 1 Sabin St\, Providence\, RI 02903\, Providence\, RI\, 02903\, United States
CATEGORIES:Comic Con
END:VEVENT
BEGIN:VEVENT
DTSTART;VALUE=DATE:20261106
DTEND;VALUE=DATE:20261109
DTSTAMP:20260423T201602
CREATED:20240130T232122Z
LAST-MODIFIED:20260109T235933Z
UID:48407-1793923200-1794182399@comic-cons.xyz
SUMMARY:CONjuration (Duluth / Atlanta\, Georgia)
DESCRIPTION:Fan of Magical Fantasy\, such as Harry Potter\, Lord of the Rings\, Supernatural\, Dungeons & Dragons\, Narnia\, Buffy\, Encanto\, and more? Join the convention from Nov. 17-19 in Duluth\, GA for CONjuration. It’s more than a magical Harry Potter convention\, it is an interactive experience for fans of ALL magical fantasy!
URL:https://comic-cons.xyz/event/conjuration-duluth-georgia/
LOCATION:Sonesta Gwinnett Place Atlanta\, 1775 Pleasant Hill Rd\, Duluth\, GA\, 30096\, United States
CATEGORIES:Nerd Convention
END:VEVENT
END:VCALENDAR