BEGIN:VCALENDAR
VERSION:2.0
PRODID:-//2025 Conventions - ECPv6.15.17.1//NONSGML v1.0//EN
CALSCALE:GREGORIAN
METHOD:PUBLISH
X-ORIGINAL-URL:https://comic-cons.xyz
X-WR-CALDESC:Events for 2025 Conventions
REFRESH-INTERVAL;VALUE=DURATION:PT1H
X-Robots-Tag:noindex
X-PUBLISHED-TTL:PT1H
BEGIN:VTIMEZONE
TZID:America/Chicago
BEGIN:DAYLIGHT
TZOFFSETFROM:-0600
TZOFFSETTO:-0500
TZNAME:CDT
DTSTART:20250309T080000
END:DAYLIGHT
BEGIN:STANDARD
TZOFFSETFROM:-0500
TZOFFSETTO:-0600
TZNAME:CST
DTSTART:20251102T070000
END:STANDARD
BEGIN:DAYLIGHT
TZOFFSETFROM:-0600
TZOFFSETTO:-0500
TZNAME:CDT
DTSTART:20260308T080000
END:DAYLIGHT
BEGIN:STANDARD
TZOFFSETFROM:-0500
TZOFFSETTO:-0600
TZNAME:CST
DTSTART:20261101T070000
END:STANDARD
BEGIN:DAYLIGHT
TZOFFSETFROM:-0600
TZOFFSETTO:-0500
TZNAME:CDT
DTSTART:20270314T080000
END:DAYLIGHT
BEGIN:STANDARD
TZOFFSETFROM:-0500
TZOFFSETTO:-0600
TZNAME:CST
DTSTART:20271107T070000
END:STANDARD
END:VTIMEZONE
BEGIN:VTIMEZONE
TZID:America/New_York
BEGIN:DAYLIGHT
TZOFFSETFROM:-0500
TZOFFSETTO:-0400
TZNAME:EDT
DTSTART:20250309T070000
END:DAYLIGHT
BEGIN:STANDARD
TZOFFSETFROM:-0400
TZOFFSETTO:-0500
TZNAME:EST
DTSTART:20251102T060000
END:STANDARD
BEGIN:DAYLIGHT
TZOFFSETFROM:-0500
TZOFFSETTO:-0400
TZNAME:EDT
DTSTART:20260308T070000
END:DAYLIGHT
BEGIN:STANDARD
TZOFFSETFROM:-0400
TZOFFSETTO:-0500
TZNAME:EST
DTSTART:20261101T060000
END:STANDARD
BEGIN:DAYLIGHT
TZOFFSETFROM:-0500
TZOFFSETTO:-0400
TZNAME:EDT
DTSTART:20270314T070000
END:DAYLIGHT
BEGIN:STANDARD
TZOFFSETFROM:-0400
TZOFFSETTO:-0500
TZNAME:EST
DTSTART:20271107T060000
END:STANDARD
END:VTIMEZONE
BEGIN:VEVENT
DTSTART;VALUE=DATE:20260117
DTEND;VALUE=DATE:20261101
DTSTAMP:20260423T163510
CREATED:20220215T004824Z
LAST-MODIFIED:20260111T004130Z
UID:41424-1768608000-1793491199@comic-cons.xyz
SUMMARY:Quad Con (Omaha\, Nebraska)
DESCRIPTION:2026 Dates\nJan 17-18  Brookfield Square Mall  Brookfield WI\nJan 24-25  Omaha NE  Oak View Mall\nJan 31/Feb 1  Champaign IL  Market Place Shopping Center\nFeb 7  Green Bay WI  Oneida Casino Conference Center\nFeb 14  Cedar Rapids IA Doubletree by Hilton Convention Complex\nFeb 21-22  Peoria IL  Northwoods Mall\nFeb 28/March 1  Rockford IL  CherryVale Mall\nMarch 7-8  Davenport IA  Northpark Mall\nMarch 14-15  Madison WI  East Towne Mall\nMarch 21-22  Columbia MO  Columbia Mall\nMarch 28-29  Des Moines IA  Merle Hay Mall\nApril 4  Sioux Falls SD  Ramkota Convention Center\nApril 12  Racine WI  Festival Hall\nApril 19  St Charles MO  Steel Shop Event Center\nMay 16-17  Sioux City IA\nMay 23  Oshkosh WI   Oshkosh Arena\nJune 6  Burlington IA  Westland Mall\nJune 7  Springfield IL   Crowne Plaza Convention Center\nJune 13-14  Lincoln\, NE  Gateway Mall\nJune 20-21  Davenport IA  NorthPark Mall\nJune 27-28  Mankato\, MN  River Hills Mall\nJuly 11  Cedar Rapids Doubletree by Hilton Convention Complex\nJuly 18-19  Peoria IL NorthWoods Mall\nJuly 25-26 Kokomo IN Markland Mall\nSept 12-13  Champaign IL Market Place Shopping Center\nSept 20  Dubuque IA  Grand River Center\nSept 26-27  Omaha Oak View Mall\nOct 3-4  St Cloud MN Crossroads Center\nOct 10  Green Bay  Oneida Conference Center\nOct 17-18  Rockford  Cherryvale Mall\nOct 24-25  Des Moines  Merle Hay Mall\nOct 31  St Charles MO  Steel Shop Event Center
URL:https://comic-cons.xyz/event/quad-con-omaha-nebraska/
LOCATION:Oak View Mall\, 3001 S 144th St\, Omaha\, NE\, 68144\, United States
CATEGORIES:Comic Con,Toy Convention
END:VEVENT
BEGIN:VEVENT
DTSTART;VALUE=DATE:20261030
DTEND;VALUE=DATE:20261102
DTSTAMP:20260423T163510
CREATED:20230926T145920Z
LAST-MODIFIED:20260111T005438Z
UID:46820-1793318400-1793577599@comic-cons.xyz
SUMMARY:DerpyCon (New Brunswick\, New Jersey)
DESCRIPTION:DerpyCon is New Jersey’s Anime\, Gaming\, Sci-Fi\, and Comic Convention\, bringing every nerdy genre under one roof. Held since 2014\, DerpyCon has been providing New Jersey a premier geek event filled with panels\, concerts\, video gaming\, cosplay\, vendors\, dances\, LARPs\, artists\, and so much more.
URL:https://comic-cons.xyz/event/derpycon-new-brunswick-new-jersey/
LOCATION:Hyatt Regency New Brunswick\, 2 Albany St\, New Brunswick\, NJ\, 08901\, United States
CATEGORIES:Anime Con,Gaming Convention
END:VEVENT
BEGIN:VEVENT
DTSTART;VALUE=DATE:20261030
DTEND;VALUE=DATE:20261102
DTSTAMP:20260423T163510
CREATED:20240406T220202Z
LAST-MODIFIED:20260110T150504Z
UID:49450-1793318400-1793577599@comic-cons.xyz
SUMMARY:Minneapolis Anime And Gaming Event (Minnesota)
DESCRIPTION:M.A.G.E. is a three day convention celebrating Japanese arts and the communities that surround anime fandom. This anime convention includes dozens of anime screenings\, a plethora of discussions\, autograph signings\, a dealers hall\, and group meetups for fandoms including several anime like My Hero Academia\, Demon Slayer\, Dragon Ball\, comics\, science-fiction\, and video games.
URL:https://comic-cons.xyz/event/minneapolis-anime-and-gaming-event-minnesota/
LOCATION:Hyatt Regency Minneapolis\, 1300 Nicollet Mall\, Minneapolis\, MN\, 55403\, United States
CATEGORIES:Anime Con,Gaming Convention
END:VEVENT
BEGIN:VEVENT
DTSTART;VALUE=DATE:20261031
DTEND;VALUE=DATE:20261101
DTSTAMP:20260423T163510
CREATED:20230620T002835Z
LAST-MODIFIED:20260315T131230Z
UID:45750-1793404800-1793491199@comic-cons.xyz
SUMMARY:MoTownCon (Mooresville\, North Carolina)
DESCRIPTION:MoTownCon 11am – 8pm. Admission is $5 a person with kids 10 and under getting in free. Featuring all new panels\, video game area\, food trucks\, and much more. Be sure to stay until the evening for anime dance!
URL:https://comic-cons.xyz/event/motowncon-mooresville-north-carolina/
LOCATION:Merino Mill\, 500 S Main St\, Mooresville\, NC\, 28115\, United States
CATEGORIES:Anime Con,Comic Con
END:VEVENT
BEGIN:VEVENT
DTSTART;VALUE=DATE:20261031
DTEND;VALUE=DATE:20261102
DTSTAMP:20260423T163510
CREATED:20250119T140452Z
LAST-MODIFIED:20251108T144532Z
UID:50867-1793404800-1793577599@comic-cons.xyz
SUMMARY:Kansas Comic Con (Wichita\, Kansas)
DESCRIPTION:Kansas Comic Con is a two-day event being held at the Century II Performing Arts & Convention Center In Wichita. \nKansas Comic Con Hours\nSaturday 10:00 AM – 6:00 PM\nSunday 11:00 AM – 5:00 PM \nBuy Tickets >\nGuests List >
URL:https://comic-cons.xyz/event/kansas-comic-con-wichita-kansas/
LOCATION:Century II Convention Center\, 225 W Douglas Ave\, Wichita\, KS\, 67202\, United States
CATEGORIES:Comic Con
END:VEVENT
END:VCALENDAR