BEGIN:VCALENDAR
VERSION:2.0
PRODID:-//2025 Conventions - ECPv6.15.17.1//NONSGML v1.0//EN
CALSCALE:GREGORIAN
METHOD:PUBLISH
X-WR-CALNAME:2025 Conventions
X-ORIGINAL-URL:https://comic-cons.xyz
X-WR-CALDESC:Events for 2025 Conventions
REFRESH-INTERVAL;VALUE=DURATION:PT1H
X-Robots-Tag:noindex
X-PUBLISHED-TTL:PT1H
BEGIN:VTIMEZONE
TZID:America/Chicago
BEGIN:DAYLIGHT
TZOFFSETFROM:-0600
TZOFFSETTO:-0500
TZNAME:CDT
DTSTART:20250309T080000
END:DAYLIGHT
BEGIN:STANDARD
TZOFFSETFROM:-0500
TZOFFSETTO:-0600
TZNAME:CST
DTSTART:20251102T070000
END:STANDARD
BEGIN:DAYLIGHT
TZOFFSETFROM:-0600
TZOFFSETTO:-0500
TZNAME:CDT
DTSTART:20260308T080000
END:DAYLIGHT
BEGIN:STANDARD
TZOFFSETFROM:-0500
TZOFFSETTO:-0600
TZNAME:CST
DTSTART:20261101T070000
END:STANDARD
BEGIN:DAYLIGHT
TZOFFSETFROM:-0600
TZOFFSETTO:-0500
TZNAME:CDT
DTSTART:20270314T080000
END:DAYLIGHT
BEGIN:STANDARD
TZOFFSETFROM:-0500
TZOFFSETTO:-0600
TZNAME:CST
DTSTART:20271107T070000
END:STANDARD
END:VTIMEZONE
BEGIN:VTIMEZONE
TZID:America/New_York
BEGIN:DAYLIGHT
TZOFFSETFROM:-0500
TZOFFSETTO:-0400
TZNAME:EDT
DTSTART:20250309T070000
END:DAYLIGHT
BEGIN:STANDARD
TZOFFSETFROM:-0400
TZOFFSETTO:-0500
TZNAME:EST
DTSTART:20251102T060000
END:STANDARD
BEGIN:DAYLIGHT
TZOFFSETFROM:-0500
TZOFFSETTO:-0400
TZNAME:EDT
DTSTART:20260308T070000
END:DAYLIGHT
BEGIN:STANDARD
TZOFFSETFROM:-0400
TZOFFSETTO:-0500
TZNAME:EST
DTSTART:20261101T060000
END:STANDARD
BEGIN:DAYLIGHT
TZOFFSETFROM:-0500
TZOFFSETTO:-0400
TZNAME:EDT
DTSTART:20270314T070000
END:DAYLIGHT
BEGIN:STANDARD
TZOFFSETFROM:-0400
TZOFFSETTO:-0500
TZNAME:EST
DTSTART:20271107T060000
END:STANDARD
END:VTIMEZONE
BEGIN:VTIMEZONE
TZID:America/Denver
BEGIN:DAYLIGHT
TZOFFSETFROM:-0700
TZOFFSETTO:-0600
TZNAME:MDT
DTSTART:20250309T090000
END:DAYLIGHT
BEGIN:STANDARD
TZOFFSETFROM:-0600
TZOFFSETTO:-0700
TZNAME:MST
DTSTART:20251102T080000
END:STANDARD
BEGIN:DAYLIGHT
TZOFFSETFROM:-0700
TZOFFSETTO:-0600
TZNAME:MDT
DTSTART:20260308T090000
END:DAYLIGHT
BEGIN:STANDARD
TZOFFSETFROM:-0600
TZOFFSETTO:-0700
TZNAME:MST
DTSTART:20261101T080000
END:STANDARD
BEGIN:DAYLIGHT
TZOFFSETFROM:-0700
TZOFFSETTO:-0600
TZNAME:MDT
DTSTART:20270314T090000
END:DAYLIGHT
BEGIN:STANDARD
TZOFFSETFROM:-0600
TZOFFSETTO:-0700
TZNAME:MST
DTSTART:20271107T080000
END:STANDARD
END:VTIMEZONE
BEGIN:VEVENT
DTSTART;VALUE=DATE:20260117
DTEND;VALUE=DATE:20261101
DTSTAMP:20260423T031353
CREATED:20220215T004824Z
LAST-MODIFIED:20260111T004130Z
UID:41424-1768608000-1793491199@comic-cons.xyz
SUMMARY:Quad Con (Omaha\, Nebraska)
DESCRIPTION:2026 Dates\nJan 17-18  Brookfield Square Mall  Brookfield WI\nJan 24-25  Omaha NE  Oak View Mall\nJan 31/Feb 1  Champaign IL  Market Place Shopping Center\nFeb 7  Green Bay WI  Oneida Casino Conference Center\nFeb 14  Cedar Rapids IA Doubletree by Hilton Convention Complex\nFeb 21-22  Peoria IL  Northwoods Mall\nFeb 28/March 1  Rockford IL  CherryVale Mall\nMarch 7-8  Davenport IA  Northpark Mall\nMarch 14-15  Madison WI  East Towne Mall\nMarch 21-22  Columbia MO  Columbia Mall\nMarch 28-29  Des Moines IA  Merle Hay Mall\nApril 4  Sioux Falls SD  Ramkota Convention Center\nApril 12  Racine WI  Festival Hall\nApril 19  St Charles MO  Steel Shop Event Center\nMay 16-17  Sioux City IA\nMay 23  Oshkosh WI   Oshkosh Arena\nJune 6  Burlington IA  Westland Mall\nJune 7  Springfield IL   Crowne Plaza Convention Center\nJune 13-14  Lincoln\, NE  Gateway Mall\nJune 20-21  Davenport IA  NorthPark Mall\nJune 27-28  Mankato\, MN  River Hills Mall\nJuly 11  Cedar Rapids Doubletree by Hilton Convention Complex\nJuly 18-19  Peoria IL NorthWoods Mall\nJuly 25-26 Kokomo IN Markland Mall\nSept 12-13  Champaign IL Market Place Shopping Center\nSept 20  Dubuque IA  Grand River Center\nSept 26-27  Omaha Oak View Mall\nOct 3-4  St Cloud MN Crossroads Center\nOct 10  Green Bay  Oneida Conference Center\nOct 17-18  Rockford  Cherryvale Mall\nOct 24-25  Des Moines  Merle Hay Mall\nOct 31  St Charles MO  Steel Shop Event Center
URL:https://comic-cons.xyz/event/quad-con-omaha-nebraska/
LOCATION:Oak View Mall\, 3001 S 144th St\, Omaha\, NE\, 68144\, United States
CATEGORIES:Comic Con,Toy Convention
END:VEVENT
BEGIN:VEVENT
DTSTART;VALUE=DATE:20261023
DTEND;VALUE=DATE:20261025
DTSTAMP:20260423T031353
CREATED:20250418T004415Z
LAST-MODIFIED:20260109T235837Z
UID:51210-1792713600-1792886399@comic-cons.xyz
SUMMARY:Georgia Mountains Charity Comic Con (Jasper\, Georgia)
DESCRIPTION:The Halloween 2025 Comic Con is in the works!  This event is one you don’t want to miss.  Our venue\, Chattahoochee Tech Conference Center\, located at 100 Campus Drive\, Jasper GA 30143\, will be filled with excitement and fun.  Come participate in the Cos Play world of make believe or just enjoy the show of some of the wackiest costumes imaginable!  Our exhibitors will be sharing their treasures of comics\, original art and books\, action figures\, cosplay accessories\, cards\, games and so much more.  Something you have been looking for?  You’ll probably find it here!  Join us for two days of fun. Friday’s fun starts at noon and goes till ? with cosplay contest and Monster Mash Bash Dance.  Doors open Saturday at 10:00 a.m. with sales \, fun and excitement lasting till 8 p.m.  Meet our special guests and be wowed by their talents and expertise as they share their secrets in our numerous panels.
URL:https://comic-cons.xyz/event/georgia-mountains-charity-comic-con-jasper-georgia/
LOCATION:Chattahoochee Tech Conference Center\, 100 Campus Drive\, Jasper\, GA\, 30143\, United States
CATEGORIES:Comic Con
END:VEVENT
BEGIN:VEVENT
DTSTART;VALUE=DATE:20261023
DTEND;VALUE=DATE:20261026
DTSTAMP:20260423T031353
CREATED:20170302T223853Z
LAST-MODIFIED:20251126T140103Z
UID:270-1792713600-1792972799@comic-cons.xyz
SUMMARY:TFcon USA (Orlando\, Florida)
DESCRIPTION:If you are a fan of Transformers\, then you are sure to enjoy geeking out at a Transformers convention. BotCon was the original Transformers Convention and started in 1994. Featured guests usually involved voice actors\, artists and writers. One of the most popular features was toy exclusives made available for its attendees. It became highly anticipated and sought after since you can’t purchase it anywhere else. 2016 was the last year that BotCon was held. Download some Transformers logos and check out Transformers cosplay. \nNow TFCon has replaced BotCon and is held annually\, one in US and one in Toronto Canada. Keep in mind there is another Botcon event that started in 2022.  \nTFcon USA  Hours\nSaturday 9am-6pm\nSunday 10am-4pm \n\n\n\n\n\n\n\nTFCon Information\nTFCon exclusives > \nTicket Prices\nPREMIUM WEEKEND PASS: Includes advance option to purchase convention exclusives on Friday night in a private area\, front of the line for early admission to the TFcon dealer room Saturday morning\, access to TFcon programming and show floor on both days – $110\nWEEKEND PASS: Includes early admission on Saturday\, access to TFcon programming all weekend\, and show floor on both days – $55\nDELUXE SATURDAY PASS: Includes early admission on Saturday\, access to TFcon programming\, and show floor – $40\nSATURDAY GENERAL ADMISSION: Entry after 12 pm\, access to TFcon programming\, and show floor – $30\nSUNDAY PASS: Access to TFcon programming and show floor on Sunday – $25\nKIDS PASS: Children between 5 and 12 are $5. There is no charge for children under 5 years of age.\nBuy TFCon tickets >
URL:https://comic-cons.xyz/event/tfcon-usa/
LOCATION:DoubleTree by Hilton Hotel Orlando at SeaWorld\, 10100 International Dr\, Orlando\, FL\, 32821\, United States
CATEGORIES:Comic Con,Nerd Convention
ATTACH;FMTTYPE=image/jpeg:https://comic-cons.xyz/wp-content/uploads/TFcon-Chicago-2025.jpg
END:VEVENT
BEGIN:VEVENT
DTSTART;VALUE=DATE:20261023
DTEND;VALUE=DATE:20261026
DTSTAMP:20260423T031353
CREATED:20180514T142828Z
LAST-MODIFIED:20260111T191758Z
UID:4779-1792713600-1792972799@comic-cons.xyz
SUMMARY:ValleyCon (Fargo\, North Dakota)
DESCRIPTION:ValleyCon is the longest-running\, most attended\, largest festival of popular culture – featuring sci-fi\, fantasy\, comics\, anime\, horror\, gaming and film & TV – from Minneapolis to Seattle! The Fargo Fantastic Film Festival opens ValleyCon weekend on Thursday and is now part of ValleyCon!
URL:https://comic-cons.xyz/event/valleycon-fargo-north-dakota/
LOCATION:Holiday Inn Fargo\, 3803 13th Ave S #3301\, Fargo\, ND\, 58103\, United States
CATEGORIES:Comic Con
END:VEVENT
END:VCALENDAR