BEGIN:VCALENDAR
VERSION:2.0
PRODID:-//2025 Conventions - ECPv6.15.17.1//NONSGML v1.0//EN
CALSCALE:GREGORIAN
METHOD:PUBLISH
X-WR-CALNAME:2025 Conventions
X-ORIGINAL-URL:https://comic-cons.xyz
X-WR-CALDESC:Events for 2025 Conventions
REFRESH-INTERVAL;VALUE=DURATION:PT1H
X-Robots-Tag:noindex
X-PUBLISHED-TTL:PT1H
BEGIN:VTIMEZONE
TZID:America/Chicago
BEGIN:DAYLIGHT
TZOFFSETFROM:-0600
TZOFFSETTO:-0500
TZNAME:CDT
DTSTART:20250309T080000
END:DAYLIGHT
BEGIN:STANDARD
TZOFFSETFROM:-0500
TZOFFSETTO:-0600
TZNAME:CST
DTSTART:20251102T070000
END:STANDARD
BEGIN:DAYLIGHT
TZOFFSETFROM:-0600
TZOFFSETTO:-0500
TZNAME:CDT
DTSTART:20260308T080000
END:DAYLIGHT
BEGIN:STANDARD
TZOFFSETFROM:-0500
TZOFFSETTO:-0600
TZNAME:CST
DTSTART:20261101T070000
END:STANDARD
BEGIN:DAYLIGHT
TZOFFSETFROM:-0600
TZOFFSETTO:-0500
TZNAME:CDT
DTSTART:20270314T080000
END:DAYLIGHT
BEGIN:STANDARD
TZOFFSETFROM:-0500
TZOFFSETTO:-0600
TZNAME:CST
DTSTART:20271107T070000
END:STANDARD
END:VTIMEZONE
BEGIN:VTIMEZONE
TZID:America/New_York
BEGIN:DAYLIGHT
TZOFFSETFROM:-0500
TZOFFSETTO:-0400
TZNAME:EDT
DTSTART:20250309T070000
END:DAYLIGHT
BEGIN:STANDARD
TZOFFSETFROM:-0400
TZOFFSETTO:-0500
TZNAME:EST
DTSTART:20251102T060000
END:STANDARD
BEGIN:DAYLIGHT
TZOFFSETFROM:-0500
TZOFFSETTO:-0400
TZNAME:EDT
DTSTART:20260308T070000
END:DAYLIGHT
BEGIN:STANDARD
TZOFFSETFROM:-0400
TZOFFSETTO:-0500
TZNAME:EST
DTSTART:20261101T060000
END:STANDARD
BEGIN:DAYLIGHT
TZOFFSETFROM:-0500
TZOFFSETTO:-0400
TZNAME:EDT
DTSTART:20270314T070000
END:DAYLIGHT
BEGIN:STANDARD
TZOFFSETFROM:-0400
TZOFFSETTO:-0500
TZNAME:EST
DTSTART:20271107T060000
END:STANDARD
END:VTIMEZONE
BEGIN:VTIMEZONE
TZID:America/Los_Angeles
BEGIN:DAYLIGHT
TZOFFSETFROM:-0800
TZOFFSETTO:-0700
TZNAME:PDT
DTSTART:20250309T100000
END:DAYLIGHT
BEGIN:STANDARD
TZOFFSETFROM:-0700
TZOFFSETTO:-0800
TZNAME:PST
DTSTART:20251102T090000
END:STANDARD
BEGIN:DAYLIGHT
TZOFFSETFROM:-0800
TZOFFSETTO:-0700
TZNAME:PDT
DTSTART:20260308T100000
END:DAYLIGHT
BEGIN:STANDARD
TZOFFSETFROM:-0700
TZOFFSETTO:-0800
TZNAME:PST
DTSTART:20261101T090000
END:STANDARD
BEGIN:DAYLIGHT
TZOFFSETFROM:-0800
TZOFFSETTO:-0700
TZNAME:PDT
DTSTART:20270314T100000
END:DAYLIGHT
BEGIN:STANDARD
TZOFFSETFROM:-0700
TZOFFSETTO:-0800
TZNAME:PST
DTSTART:20271107T090000
END:STANDARD
END:VTIMEZONE
BEGIN:VTIMEZONE
TZID:America/Denver
BEGIN:DAYLIGHT
TZOFFSETFROM:-0700
TZOFFSETTO:-0600
TZNAME:MDT
DTSTART:20250309T090000
END:DAYLIGHT
BEGIN:STANDARD
TZOFFSETFROM:-0600
TZOFFSETTO:-0700
TZNAME:MST
DTSTART:20251102T080000
END:STANDARD
BEGIN:DAYLIGHT
TZOFFSETFROM:-0700
TZOFFSETTO:-0600
TZNAME:MDT
DTSTART:20260308T090000
END:DAYLIGHT
BEGIN:STANDARD
TZOFFSETFROM:-0600
TZOFFSETTO:-0700
TZNAME:MST
DTSTART:20261101T080000
END:STANDARD
BEGIN:DAYLIGHT
TZOFFSETFROM:-0700
TZOFFSETTO:-0600
TZNAME:MDT
DTSTART:20270314T090000
END:DAYLIGHT
BEGIN:STANDARD
TZOFFSETFROM:-0600
TZOFFSETTO:-0700
TZNAME:MST
DTSTART:20271107T080000
END:STANDARD
END:VTIMEZONE
BEGIN:VTIMEZONE
TZID:Asia/Tokyo
BEGIN:STANDARD
TZOFFSETFROM:+0900
TZOFFSETTO:+0900
TZNAME:JST
DTSTART:20250101T000000
END:STANDARD
END:VTIMEZONE
BEGIN:VEVENT
DTSTART;VALUE=DATE:20260117
DTEND;VALUE=DATE:20261101
DTSTAMP:20260423T024308
CREATED:20220215T004824Z
LAST-MODIFIED:20260111T004130Z
UID:41424-1768608000-1793491199@comic-cons.xyz
SUMMARY:Quad Con (Omaha\, Nebraska)
DESCRIPTION:2026 Dates\nJan 17-18  Brookfield Square Mall  Brookfield WI\nJan 24-25  Omaha NE  Oak View Mall\nJan 31/Feb 1  Champaign IL  Market Place Shopping Center\nFeb 7  Green Bay WI  Oneida Casino Conference Center\nFeb 14  Cedar Rapids IA Doubletree by Hilton Convention Complex\nFeb 21-22  Peoria IL  Northwoods Mall\nFeb 28/March 1  Rockford IL  CherryVale Mall\nMarch 7-8  Davenport IA  Northpark Mall\nMarch 14-15  Madison WI  East Towne Mall\nMarch 21-22  Columbia MO  Columbia Mall\nMarch 28-29  Des Moines IA  Merle Hay Mall\nApril 4  Sioux Falls SD  Ramkota Convention Center\nApril 12  Racine WI  Festival Hall\nApril 19  St Charles MO  Steel Shop Event Center\nMay 16-17  Sioux City IA\nMay 23  Oshkosh WI   Oshkosh Arena\nJune 6  Burlington IA  Westland Mall\nJune 7  Springfield IL   Crowne Plaza Convention Center\nJune 13-14  Lincoln\, NE  Gateway Mall\nJune 20-21  Davenport IA  NorthPark Mall\nJune 27-28  Mankato\, MN  River Hills Mall\nJuly 11  Cedar Rapids Doubletree by Hilton Convention Complex\nJuly 18-19  Peoria IL NorthWoods Mall\nJuly 25-26 Kokomo IN Markland Mall\nSept 12-13  Champaign IL Market Place Shopping Center\nSept 20  Dubuque IA  Grand River Center\nSept 26-27  Omaha Oak View Mall\nOct 3-4  St Cloud MN Crossroads Center\nOct 10  Green Bay  Oneida Conference Center\nOct 17-18  Rockford  Cherryvale Mall\nOct 24-25  Des Moines  Merle Hay Mall\nOct 31  St Charles MO  Steel Shop Event Center
URL:https://comic-cons.xyz/event/quad-con-omaha-nebraska/
LOCATION:Oak View Mall\, 3001 S 144th St\, Omaha\, NE\, 68144\, United States
CATEGORIES:Comic Con,Toy Convention
END:VEVENT
BEGIN:VEVENT
DTSTART;VALUE=DATE:20260326
DTEND;VALUE=DATE:20260330
DTSTAMP:20260423T024308
CREATED:20170301T060748Z
LAST-MODIFIED:20250810T171507Z
UID:118-1774483200-1774828799@comic-cons.xyz
SUMMARY:Lexington Comic & Toy Con (Kentucky)
DESCRIPTION:Lexington Comic & Toy Convention\, commonly referred to as Lexington Comic Con or LexCon\, is held in Lexington\, Kentucky at the Central Bank Center. LCTC is Lexington’s largest gathering of all things geeky. As one of the best Kentucky comic cons\, the convention features celebrities of film and TV\, comics\, art\, music\, and more. \nBuy Tickets >
URL:https://comic-cons.xyz/event/lexington-comic-toy-con-kentucky/
LOCATION:Central Bank Center\, 430 W Vine St\, Lexington\, KY 40507\, Lexington\, KY\, 40507\, United States
CATEGORIES:Comic Con,Toy Convention
END:VEVENT
BEGIN:VEVENT
DTSTART;VALUE=DATE:20260326
DTEND;VALUE=DATE:20260330
DTSTAMP:20260423T024308
CREATED:20220720T010542Z
LAST-MODIFIED:20250923T123744Z
UID:42612-1774483200-1774828799@comic-cons.xyz
SUMMARY:PAX East (Boston\, Massachusetts)
DESCRIPTION:PAX\, originally known as Penny Arcade Expo\, has grown to be the largest gaming festival in North America. This video game convention is a celebration of gaming and gaming culture featuring thought-provoking panels\, a massive expo hall filled with the best publishers and studios\, new game demos\, musical performances\, tournaments\, and a community experience unlike any other. \nCelebrate all things gaming\, PAX East features an expansive expo hall with wall-to-wall developers and publishers\, both local and from around the world\, showing off highly anticipated titles. In-depth panel discussions from top industry professionals and content creators Live events featuring iconic gaming personalities\, ESports tournaments with some of the biggest names in professional gaming\, and video game music concerts. \nShow Hours\nThursday 10:00 AM – Midnight\nFriday 10:00 AM – Midnight\nSaturday 10:00 AM – Midnight\nSunday 10:00 AM – 6:00 PM\nExpo Hall Hours\n10:00 AM – 6:00 PM Each Day \n\n\n\n\n\n\n\nBuy Tickets >\nSchedule > \nPax East 2025\nGreg Miller: Co-founder of Kinda Funny\, he will be the Storytime keynote speaker\, kicking off PAX East 2025 on Thursday\, May 8th. \nExhibitors:\n• Larian Studios (Baldur’s Gate 3)  \n• The Pokémon Company\n• FUNCOM (Dune: Awakening)  \n• Behaviour Interactive (Dead by Daylight)\n• Owlchemy Labs (Job Simulator)\n• Devolver Digital  \n• Pearl Abyss (Crimson Desert – with a North American public hands-on)\n• Razer  \n• Junkfood Games\n• AverMedia\n• Starforge Systems\n• Sceptre\n• Cephalofair Games (Gloomhaven)  \n• Dice Throne (creators of Marvel Dice Throne)  \n• CATAN Studio (Settlers of CATAN)\n• UVS Games (Critical Role: Heroes of Exandria)  \n• Chooseco (Choose Your Own Adventure gamebooks) \nFAQs\nIs PAX East always in Boston?\nPAX East has been held in Boston annually since 2010. \nIs PAX East kid friendly?\nPAX East is a show for all ages but there are certain things that are for older kids and it’s flagged in the schedule as 13+. \nWhat happens at PAX East?\nThis convention showcases new game demos from big and small names and upcoming publishers. It also hosts esports\, gaming sessions\, tournaments\, panels on game topics\, as well as autograph sessions. \nPAX East 2024 Photos & Videos\n2024 Exhibitors – featuring Pokémon\, Nintendo\, Atari \, FINAL FANTASY XIV\, Retroware\, and more. \nPax East 2024 Floor Walkthrough\n\nPAX East 2024 Photos\, Videos & Floor Maps > \nPAX East 2023 Photos & Videos
URL:https://comic-cons.xyz/event/pax-east/
LOCATION:Boston Convention & Exhibition Center\, 415 Summer St\, Boston\, MA\, 02210\, United States
CATEGORIES:Gaming Convention
ATTACH;FMTTYPE=image/png:https://comic-cons.xyz/wp-content/uploads/PAX_new_logo_blue.png
END:VEVENT
BEGIN:VEVENT
DTSTART;VALUE=DATE:20260327
DTEND;VALUE=DATE:20260330
DTSTAMP:20260423T024308
CREATED:20170301T053003Z
LAST-MODIFIED:20250908T223125Z
UID:109-1774569600-1774828799@comic-cons.xyz
SUMMARY:Planet Comicon (Kansas City\, Missouri)
DESCRIPTION:Planet Comicon is your pop culture destination featuring an incredible lineup of celebrities\, exhibitors\, special events\, a wide ranging schedule of panels\, plus amazing cosplay\, a cosplay contest\, and more to be announced in the coming months. Over 60\,000 people attend Planet Comicon Kansas City every year\, making it the biggest Missouri comic con. \nShow Hours\nFriday 5PM – 10PM\nSaturday 10AM – 2AM\nSunday 10AM – 5PM
URL:https://comic-cons.xyz/event/planet-comicon-kansas-city-missouri/
LOCATION:Kansas City Convention Center\, 301 W 13th St\, Kansas City\, MO\, 64105\, United States
CATEGORIES:Comic Con
END:VEVENT
BEGIN:VEVENT
DTSTART;VALUE=DATE:20260327
DTEND;VALUE=DATE:20260330
DTSTAMP:20260423T024308
CREATED:20170306T210910Z
LAST-MODIFIED:20250802T214301Z
UID:436-1774569600-1774828799@comic-cons.xyz
SUMMARY:WonderCon (Los Angeles / Anaheim\, California)
DESCRIPTION:WonderCon features 900+ exhibitors in a 412\,000 square foot Exhibit Hall filled with comics\, original art\, toys\, and merchandise from many popular artists\, publishers\, and retailers. Attendees for WonderCon\, which is one of the bigger California comic conventions\, can expect exclusive movie and television programming\, panels featuring the top comics professionals in the country\, anime\, autographs\, games\, a Masquerade\, and portfolio review. WonderCon offers the complete convention experience! \nWonderCon Show Hours\nFriday 12 Noon – 7 PM\nSaturday 10 AM – 7 PM\nSunday 11 AM – 5 PM
URL:https://comic-cons.xyz/event/wondercon-los-angeles-anaheim-california/
LOCATION:Anaheim Convention Center\, 800 W Katella Ave\, Anaheim\, CA\, 92802\, United States
CATEGORIES:Comic Con
END:VEVENT
BEGIN:VEVENT
DTSTART;VALUE=DATE:20260327
DTEND;VALUE=DATE:20260330
DTSTAMP:20260423T024308
CREATED:20170802T214029Z
LAST-MODIFIED:20250901T205923Z
UID:2496-1774569600-1774828799@comic-cons.xyz
SUMMARY:Collective Con (Jacksonville\, Florida)
DESCRIPTION:Collective Con is Northeast Florida’s largest pop culture convention. Don’t miss out on this weekend of fun with Celebrity Guests\, Voice Actors from some of your Favorite Anime/Video Game\, Vendors\, Fan Panels\, Video Game Tournaments\, Cosplay Contests\, After Parties and more. \nBuy tickets >\nMore Florida comic cons & anime cons >
URL:https://comic-cons.xyz/event/collective-con-jacksonville-florida/
LOCATION:Morocco Shrine Auditorium\, 3800 St Johns Bluff Rd S\, Jacksonville\, FL\, 32224\, United States
CATEGORIES:Comic Con
END:VEVENT
BEGIN:VEVENT
DTSTART;VALUE=DATE:20260327
DTEND;VALUE=DATE:20260330
DTSTAMP:20260423T024308
CREATED:20171128T125815Z
LAST-MODIFIED:20250517T231256Z
UID:3780-1774569600-1774828799@comic-cons.xyz
SUMMARY:Triad Anime Convention (Winston Salem\, North Carolina)
DESCRIPTION:Triad Anime Convention (TAC) is a 3-day North Carolina anime con event that features a variety of entertainment in a diverse\, multi-function\, crowd-friendly environment. One ticket price gives you access to all Concerts\, Live Acts\, and Performers to industry and media guests\, DJs\, artists\, and vendors. \nTriad Anime Convention Hours\nFriday 12pm – 1am\nSaturday 10am – 1am\nSunday 10am – 4pm \nBuy tickets >
URL:https://comic-cons.xyz/event/triad-anime-convention-north-carolina/
LOCATION:Benton Convention Center\, 301 W 5th St.\, Winston-Salem\, NC\, 27101\, United States
CATEGORIES:Anime Con
END:VEVENT
BEGIN:VEVENT
DTSTART;VALUE=DATE:20260327
DTEND;VALUE=DATE:20260330
DTSTAMP:20260423T024308
CREATED:20230414T152907Z
LAST-MODIFIED:20250802T160525Z
UID:45077-1774569600-1774828799@comic-cons.xyz
SUMMARY:Chicago Comic & Entertainment Expo C2E2 (Illinois)
DESCRIPTION:The Chicago Comic & Entertainment Expo\, also known as C2E2\, is a fan convention spanning the latest and greatest from the worlds of comics\, movies\, television\, anime\, manga\, toys\, and video games. Held for the first time on April 16–18\, 2010 in Chicago’s McCormick Place\, it has an estimated attendance of between 80\,000 to 100\,000 comic convention goers. You can meet your favorite comic book artists\, creators and celebrities\, while mingling with awesome Chicago area comic con fans. \nC2E2 Show Hours\nFriday: 10:00 AM – 7:00 PM\nSaturday: 10:00 AM – 7:00 PM\nSunday: 10:00 AM – 5:00 PM \nAFTER DARK PANELS AND EVENTS\nFriday: 8:00 PM – 12:00 AM\nSaturday: 8:00 PM – 12:00 AM \n\n\n\n\n\n\n\nAdults: $40-$50 (Friday-Saturday/Sunday)\n3-Day Ticket: $99\nKids Sunday: $10 (with Adult)\n3-Day Kids: $20 (with Adult)
URL:https://comic-cons.xyz/event/chicago-comic-entertainment-expo-c2e2-illinois/
LOCATION:McCormick Place\, 2301 S King Dr.\, Chicago\, IL\, 60616\, United States
CATEGORIES:Comic Con
ATTACH;FMTTYPE=image/png:https://comic-cons.xyz/wp-content/uploads/Chicago-C2E2-ReedPop-Logo.png
END:VEVENT
BEGIN:VEVENT
DTSTART;VALUE=DATE:20260327
DTEND;VALUE=DATE:20260330
DTSTAMP:20260423T024308
CREATED:20231009T142531Z
LAST-MODIFIED:20260110T150831Z
UID:47171-1774569600-1774828799@comic-cons.xyz
SUMMARY:Planet Anime (Kansas City\, Missouri)
DESCRIPTION:Planet Anime is an anime-centric destination featuring an incredible lineup of anime voice celebrities\, exhibitors\, special events\, a wide ranging schedule of panels\, plus amazing cosplay\, a cosplay contest and more. \nShow Hours\nFriday 5PM – 10PM\nSaturday 10AM – 2AM\nSunday 10AM – 5PM
URL:https://comic-cons.xyz/event/planet-anime-kansas-city-missouri/
LOCATION:Kansas City Convention Center\, 301 W 13th St\, Kansas City\, MO\, 64105\, United States
CATEGORIES:Anime Con
END:VEVENT
BEGIN:VEVENT
DTSTART;VALUE=DATE:20260327
DTEND;VALUE=DATE:20260330
DTSTAMP:20260423T024308
CREATED:20240119T134121Z
LAST-MODIFIED:20250717T124853Z
UID:48246-1774569600-1774828799@comic-cons.xyz
SUMMARY:Toylanta (Atlanta\, Georgia)
DESCRIPTION:The greatest toy show in the world!
URL:https://comic-cons.xyz/event/toylanta-atlanta-georgia/
LOCATION:Hilton Atlanta Northeast\, 5993 Peachtree Industrial Blvd\, Peachtree Corners\, GA\, 30092\, United States
CATEGORIES:Toy Convention
END:VEVENT
BEGIN:VEVENT
DTSTART;VALUE=DATE:20260327
DTEND;VALUE=DATE:20260330
DTSTAMP:20260423T024308
CREATED:20240926T203600Z
LAST-MODIFIED:20250910T151524Z
UID:50560-1774569600-1774828799@comic-cons.xyz
SUMMARY:Anime New Mexico
DESCRIPTION:At New Mexico’s Anime Convention\, you can meet voice actors from your favorite anime shows\, shop at our artists’ alley and dealers’ hall\, see amazing cosplay\, attend idol concerts\, sit in an authentic Japanese Maid Café\, laugh during improve comedy shows\, attend and participate in Medieval combat\, dance all night at an anime-themed rave\, and more!
URL:https://comic-cons.xyz/event/anime-new-mexico/
LOCATION:Embassy Suites by Hilton Albuquerque\, 1000 Woodward Pl NE\, Albuquerque\, NM\, 87102\, United States
CATEGORIES:Anime Con
END:VEVENT
BEGIN:VEVENT
DTSTART;VALUE=DATE:20260328
DTEND;VALUE=DATE:20260330
DTSTAMP:20260423T024308
CREATED:20190805T120341Z
LAST-MODIFIED:20251001T234147Z
UID:8960-1774656000-1774828799@comic-cons.xyz
SUMMARY:Anime Japan (Tokyo)
DESCRIPTION:Anime Japan is the Japanese animation industry’s premier annual event\, with hundreds of domestic and overseas anime-related companies descending on Tokyo Big Sight in late March for this 4-day event (the first two days are open to the public and the last two are business-only). \nTweets by animejapan_aj
URL:https://comic-cons.xyz/event/anime-japan-tokyo/
LOCATION:Tokyo Big Sight\, 3-11-1 Ariake\, Koto-ku\, Tokyo\, 135-0063\, Japan
CATEGORIES:Anime Con
END:VEVENT
END:VCALENDAR