BEGIN:VCALENDAR
VERSION:2.0
PRODID:-//2025 Conventions - ECPv6.15.17.1//NONSGML v1.0//EN
CALSCALE:GREGORIAN
METHOD:PUBLISH
X-ORIGINAL-URL:https://comic-cons.xyz
X-WR-CALDESC:Events for 2025 Conventions
REFRESH-INTERVAL;VALUE=DURATION:PT1H
X-Robots-Tag:noindex
X-PUBLISHED-TTL:PT1H
BEGIN:VTIMEZONE
TZID:America/Denver
BEGIN:DAYLIGHT
TZOFFSETFROM:-0700
TZOFFSETTO:-0600
TZNAME:MDT
DTSTART:20240310T090000
END:DAYLIGHT
BEGIN:STANDARD
TZOFFSETFROM:-0600
TZOFFSETTO:-0700
TZNAME:MST
DTSTART:20241103T080000
END:STANDARD
BEGIN:DAYLIGHT
TZOFFSETFROM:-0700
TZOFFSETTO:-0600
TZNAME:MDT
DTSTART:20250309T090000
END:DAYLIGHT
BEGIN:STANDARD
TZOFFSETFROM:-0600
TZOFFSETTO:-0700
TZNAME:MST
DTSTART:20251102T080000
END:STANDARD
BEGIN:DAYLIGHT
TZOFFSETFROM:-0700
TZOFFSETTO:-0600
TZNAME:MDT
DTSTART:20260308T090000
END:DAYLIGHT
BEGIN:STANDARD
TZOFFSETFROM:-0600
TZOFFSETTO:-0700
TZNAME:MST
DTSTART:20261101T080000
END:STANDARD
END:VTIMEZONE
BEGIN:VTIMEZONE
TZID:America/New_York
BEGIN:DAYLIGHT
TZOFFSETFROM:-0500
TZOFFSETTO:-0400
TZNAME:EDT
DTSTART:20240310T070000
END:DAYLIGHT
BEGIN:STANDARD
TZOFFSETFROM:-0400
TZOFFSETTO:-0500
TZNAME:EST
DTSTART:20241103T060000
END:STANDARD
BEGIN:DAYLIGHT
TZOFFSETFROM:-0500
TZOFFSETTO:-0400
TZNAME:EDT
DTSTART:20250309T070000
END:DAYLIGHT
BEGIN:STANDARD
TZOFFSETFROM:-0400
TZOFFSETTO:-0500
TZNAME:EST
DTSTART:20251102T060000
END:STANDARD
BEGIN:DAYLIGHT
TZOFFSETFROM:-0500
TZOFFSETTO:-0400
TZNAME:EDT
DTSTART:20260308T070000
END:DAYLIGHT
BEGIN:STANDARD
TZOFFSETFROM:-0400
TZOFFSETTO:-0500
TZNAME:EST
DTSTART:20261101T060000
END:STANDARD
END:VTIMEZONE
BEGIN:VTIMEZONE
TZID:Europe/London
BEGIN:DAYLIGHT
TZOFFSETFROM:+0000
TZOFFSETTO:+0100
TZNAME:BST
DTSTART:20240331T010000
END:DAYLIGHT
BEGIN:STANDARD
TZOFFSETFROM:+0100
TZOFFSETTO:+0000
TZNAME:GMT
DTSTART:20241027T010000
END:STANDARD
BEGIN:DAYLIGHT
TZOFFSETFROM:+0000
TZOFFSETTO:+0100
TZNAME:BST
DTSTART:20250330T010000
END:DAYLIGHT
BEGIN:STANDARD
TZOFFSETFROM:+0100
TZOFFSETTO:+0000
TZNAME:GMT
DTSTART:20251026T010000
END:STANDARD
BEGIN:DAYLIGHT
TZOFFSETFROM:+0000
TZOFFSETTO:+0100
TZNAME:BST
DTSTART:20260329T010000
END:DAYLIGHT
BEGIN:STANDARD
TZOFFSETFROM:+0100
TZOFFSETTO:+0000
TZNAME:GMT
DTSTART:20261025T010000
END:STANDARD
END:VTIMEZONE
BEGIN:VEVENT
DTSTART;VALUE=DATE:20250806
DTEND;VALUE=DATE:20250811
DTSTAMP:20260424T094536
CREATED:20170317T043853Z
LAST-MODIFIED:20250910T122600Z
UID:731-1754438400-1754870399@comic-cons.xyz
SUMMARY:STLV: Trek to Vegas 2025 Convention / Star Trek Convention (Las Vegas\, Nevada)
DESCRIPTION:The tradition of Trek excellence continues with Creation Entertainment’s STLV: Trek to Vegas 2025 Convention\, now a FIVE-DAY show happening August 6-10\, 2025 at The Rio Las Vegas Hotel in Nevada! William Shatner is a confirmed guest for 2025. \nStar Trek logos >\nWilliam Shatner comic cons guest appearances >\nStar Trek Barbie & Ken 30th Anniversary Collector’s Edition >
URL:https://comic-cons.xyz/event/official-star-trek-convention-las-vegas/
LOCATION:Rio All Suite Hotel and Casino\, 3700 W Flamingo Rd\, Las Vegas\, NV\, 89103\, United States
CATEGORIES:Comic Con,Nerd Convention
ATTACH;FMTTYPE=image/jpeg:https://comic-cons.xyz/wp-content/uploads/STLV-58.jpg
END:VEVENT
BEGIN:VEVENT
DTSTART;VALUE=DATE:20250807
DTEND;VALUE=DATE:20250811
DTSTAMP:20260424T094536
CREATED:20240627T115330Z
LAST-MODIFIED:20250910T121952Z
UID:49774-1754524800-1754870399@comic-cons.xyz
SUMMARY:Supernova (Washington DC / Virginia)
DESCRIPTION:Supernova is the largest Smash event in the world\, and the ultimate fan experience. Formerly known as Super Smash Con\, the name change reflects the gravity\, scale\, and hype of the largest Smash event in the world. Supernova embodied that perfectly\, representing the explosive energy that is so unique to the Smash Community. It’s also a nod to NoVa (Northern Virginia). \n Buy tickets >
URL:https://comic-cons.xyz/event/supernova-washington-dc-virginia/
LOCATION:Dulles Expo Center\, 4320 Chantilly Shopping Center\, Chantilly\, VA\, 20151\, United States
CATEGORIES:Gaming Convention
END:VEVENT
BEGIN:VEVENT
DTSTART;VALUE=DATE:20250808
DTEND;VALUE=DATE:20250811
DTSTAMP:20260424T094536
CREATED:20170426T175615Z
LAST-MODIFIED:20240919T141018Z
UID:1366-1754611200-1754870399@comic-cons.xyz
SUMMARY:TFNation (Birmingham\, UK)
DESCRIPTION:TFNation® run family-friendly events for fans of Transformers® and other robot brands. There are two types of events\, main convention is a three-day event taking place each August in Birmingham\, England. There is also a smaller one-day event calledTFN: Mini-Con® which takes place throughout the year in a variety of locations. For more info on TFNation\, Europe’s largest Transformers fan-convention\, visit TFNation official site.
URL:https://comic-cons.xyz/event/tfnation-birmingham-uk/
LOCATION:Hilton Birmingham Metropole\, The NEC Birmingham\, Pendigo Way\, Birmingham\, B40 1PP\, United Kingdom
CATEGORIES:Comic Con,Nerd Convention
ATTACH;FMTTYPE=image/png:https://comic-cons.xyz/wp-content/uploads/TFNation-2023logo.png
END:VEVENT
BEGIN:VEVENT
DTSTART;VALUE=DATE:20250808
DTEND;VALUE=DATE:20250811
DTSTAMP:20260424T094536
CREATED:20170518T214139Z
LAST-MODIFIED:20250703T225139Z
UID:1796-1754611200-1754870399@comic-cons.xyz
SUMMARY:Otakuthon Con (Montreal\, Canada)
DESCRIPTION:
URL:https://comic-cons.xyz/event/otakuthon-montreal-canada/
LOCATION:Palais des congrès de Montréal\, 1001 Jean Paul Riopelle Pl\, Montreal\, Quebec\, H2Z 1H5\, Canada
CATEGORIES:Anime Con
END:VEVENT
END:VCALENDAR