BEGIN:VCALENDAR
VERSION:2.0
PRODID:-//2025 Conventions - ECPv6.15.17.1//NONSGML v1.0//EN
CALSCALE:GREGORIAN
METHOD:PUBLISH
X-WR-CALNAME:2025 Conventions
X-ORIGINAL-URL:https://comic-cons.xyz
X-WR-CALDESC:Events for 2025 Conventions
REFRESH-INTERVAL;VALUE=DURATION:PT1H
X-Robots-Tag:noindex
X-PUBLISHED-TTL:PT1H
BEGIN:VTIMEZONE
TZID:America/New_York
BEGIN:DAYLIGHT
TZOFFSETFROM:-0500
TZOFFSETTO:-0400
TZNAME:EDT
DTSTART:20240310T070000
END:DAYLIGHT
BEGIN:STANDARD
TZOFFSETFROM:-0400
TZOFFSETTO:-0500
TZNAME:EST
DTSTART:20241103T060000
END:STANDARD
BEGIN:DAYLIGHT
TZOFFSETFROM:-0500
TZOFFSETTO:-0400
TZNAME:EDT
DTSTART:20250309T070000
END:DAYLIGHT
BEGIN:STANDARD
TZOFFSETFROM:-0400
TZOFFSETTO:-0500
TZNAME:EST
DTSTART:20251102T060000
END:STANDARD
BEGIN:DAYLIGHT
TZOFFSETFROM:-0500
TZOFFSETTO:-0400
TZNAME:EDT
DTSTART:20260308T070000
END:DAYLIGHT
BEGIN:STANDARD
TZOFFSETFROM:-0400
TZOFFSETTO:-0500
TZNAME:EST
DTSTART:20261101T060000
END:STANDARD
END:VTIMEZONE
BEGIN:VEVENT
DTSTART;VALUE=DATE:20250613
DTEND;VALUE=DATE:20250719
DTSTAMP:20260424T081955
CREATED:20250604T003007Z
LAST-MODIFIED:20250604T003007Z
UID:51279-1749772800-1752883199@comic-cons.xyz
SUMMARY:Target Summer Geek Out
DESCRIPTION:Every Friday starting June 13th thru July 18th\, Target will feature special Summer Geek Out exclusives on their Collector’s Spot online! Every Friday at 8am CT\, Target lists new product pre-orders from a particular toy company\, like Hasbro\, McFarlane\, etc. Check out Target’s website for more details.
URL:https://comic-cons.xyz/event/target-summer-geek-out/
LOCATION:Online Event
CATEGORIES:Online Event
END:VEVENT
END:VCALENDAR