BEGIN:VCALENDAR
VERSION:2.0
PRODID:-//2025 Conventions - ECPv6.15.17.1//NONSGML v1.0//EN
CALSCALE:GREGORIAN
METHOD:PUBLISH
X-WR-CALNAME:2025 Conventions
X-ORIGINAL-URL:https://comic-cons.xyz
X-WR-CALDESC:Events for 2025 Conventions
REFRESH-INTERVAL;VALUE=DURATION:PT1H
X-Robots-Tag:noindex
X-PUBLISHED-TTL:PT1H
BEGIN:VTIMEZONE
TZID:America/New_York
BEGIN:DAYLIGHT
TZOFFSETFROM:-0500
TZOFFSETTO:-0400
TZNAME:EDT
DTSTART:20240310T070000
END:DAYLIGHT
BEGIN:STANDARD
TZOFFSETFROM:-0400
TZOFFSETTO:-0500
TZNAME:EST
DTSTART:20241103T060000
END:STANDARD
BEGIN:DAYLIGHT
TZOFFSETFROM:-0500
TZOFFSETTO:-0400
TZNAME:EDT
DTSTART:20250309T070000
END:DAYLIGHT
BEGIN:STANDARD
TZOFFSETFROM:-0400
TZOFFSETTO:-0500
TZNAME:EST
DTSTART:20251102T060000
END:STANDARD
BEGIN:DAYLIGHT
TZOFFSETFROM:-0500
TZOFFSETTO:-0400
TZNAME:EDT
DTSTART:20260308T070000
END:DAYLIGHT
BEGIN:STANDARD
TZOFFSETFROM:-0400
TZOFFSETTO:-0500
TZNAME:EST
DTSTART:20261101T060000
END:STANDARD
END:VTIMEZONE
BEGIN:VTIMEZONE
TZID:America/Chicago
BEGIN:DAYLIGHT
TZOFFSETFROM:-0600
TZOFFSETTO:-0500
TZNAME:CDT
DTSTART:20240310T080000
END:DAYLIGHT
BEGIN:STANDARD
TZOFFSETFROM:-0500
TZOFFSETTO:-0600
TZNAME:CST
DTSTART:20241103T070000
END:STANDARD
BEGIN:DAYLIGHT
TZOFFSETFROM:-0600
TZOFFSETTO:-0500
TZNAME:CDT
DTSTART:20250309T080000
END:DAYLIGHT
BEGIN:STANDARD
TZOFFSETFROM:-0500
TZOFFSETTO:-0600
TZNAME:CST
DTSTART:20251102T070000
END:STANDARD
BEGIN:DAYLIGHT
TZOFFSETFROM:-0600
TZOFFSETTO:-0500
TZNAME:CDT
DTSTART:20260308T080000
END:DAYLIGHT
BEGIN:STANDARD
TZOFFSETFROM:-0500
TZOFFSETTO:-0600
TZNAME:CST
DTSTART:20261101T070000
END:STANDARD
END:VTIMEZONE
BEGIN:VTIMEZONE
TZID:America/Los_Angeles
BEGIN:DAYLIGHT
TZOFFSETFROM:-0800
TZOFFSETTO:-0700
TZNAME:PDT
DTSTART:20240310T100000
END:DAYLIGHT
BEGIN:STANDARD
TZOFFSETFROM:-0700
TZOFFSETTO:-0800
TZNAME:PST
DTSTART:20241103T090000
END:STANDARD
BEGIN:DAYLIGHT
TZOFFSETFROM:-0800
TZOFFSETTO:-0700
TZNAME:PDT
DTSTART:20250309T100000
END:DAYLIGHT
BEGIN:STANDARD
TZOFFSETFROM:-0700
TZOFFSETTO:-0800
TZNAME:PST
DTSTART:20251102T090000
END:STANDARD
BEGIN:DAYLIGHT
TZOFFSETFROM:-0800
TZOFFSETTO:-0700
TZNAME:PDT
DTSTART:20260308T100000
END:DAYLIGHT
BEGIN:STANDARD
TZOFFSETFROM:-0700
TZOFFSETTO:-0800
TZNAME:PST
DTSTART:20261101T090000
END:STANDARD
END:VTIMEZONE
BEGIN:VEVENT
DTSTART;VALUE=DATE:20250613
DTEND;VALUE=DATE:20250719
DTSTAMP:20260423T051025
CREATED:20250604T003007Z
LAST-MODIFIED:20250604T003007Z
UID:51279-1749772800-1752883199@comic-cons.xyz
SUMMARY:Target Summer Geek Out
DESCRIPTION:Every Friday starting June 13th thru July 18th\, Target will feature special Summer Geek Out exclusives on their Collector’s Spot online! Every Friday at 8am CT\, Target lists new product pre-orders from a particular toy company\, like Hasbro\, McFarlane\, etc. Check out Target’s website for more details.
URL:https://comic-cons.xyz/event/target-summer-geek-out/
LOCATION:Online Event
CATEGORIES:Online Event
END:VEVENT
BEGIN:VEVENT
DTSTART;VALUE=DATE:20250627
DTEND;VALUE=DATE:20250630
DTSTAMP:20260423T051025
CREATED:20220221T134219Z
LAST-MODIFIED:20240930T201653Z
UID:41480-1750982400-1751241599@comic-cons.xyz
SUMMARY:Arkansas Anime Festival (Bentonville\, Arkansas)
DESCRIPTION:Arkansas Anime Festival (A2F) is a three-day convention held in Bentonville\, Arkansas annually in the Summer. They are the longest-running anime and gaming convention in the state.
URL:https://comic-cons.xyz/event/arkansas-anime-festival-bentonville/
LOCATION:Four Points by Sheraton Bentonville\, 211 SE Walton Blvd\, Bentonville\, AR\, 72712\, United States
CATEGORIES:Anime Con
END:VEVENT
BEGIN:VEVENT
DTSTART;VALUE=DATE:20250627
DTEND;VALUE=DATE:20250630
DTSTAMP:20260423T051025
CREATED:20250426T155657Z
LAST-MODIFIED:20250426T155657Z
UID:51226-1750982400-1751241599@comic-cons.xyz
SUMMARY:Funko Fundays (Los Angeles\, California)
DESCRIPTION:Funko Fundays 2025 is set to be a significantly different experience for Funatics as the event is moving from its long-time home at San Diego Comic-Con to the Funko Hollywood store\, taking place from June 27th to 29th. This year’s theme is “Quest For The Grail\,” promising a fully immersive and adventurous experience for attendees. The event will feature the classic elements fans love\, such as games\, team competitions\, the Box of Fun\, encouraged POP! trading\, and the Prize Patrol\, all within the setting of Funko Hollywood. Attendees are encouraged to dress in their best adventure-seeking attire and can look forward to exploring curated Funko rarities\, tackling timed challenges for prizes\, and enjoying the new ‘Funko Trading Post’ for community interaction and refreshments. Tickets for this reimagined Fundays experience will go on sale in May\, marking a return to the city where the very first Fundays took place.
URL:https://comic-cons.xyz/event/funko-fundays/
LOCATION:Funko Hollywood\, 6201 Hollywood Boulevard\, Los Angeles\, CA\, 90028\, United States
CATEGORIES:Toy Convention
ATTACH;FMTTYPE=image/jpeg:https://comic-cons.xyz/wp-content/uploads/Fundays-2025.jpg
END:VEVENT
END:VCALENDAR