BEGIN:VCALENDAR
VERSION:2.0
PRODID:-//2025 Conventions - ECPv6.15.17.1//NONSGML v1.0//EN
CALSCALE:GREGORIAN
METHOD:PUBLISH
X-ORIGINAL-URL:https://comic-cons.xyz
X-WR-CALDESC:Events for 2025 Conventions
REFRESH-INTERVAL;VALUE=DURATION:PT1H
X-Robots-Tag:noindex
X-PUBLISHED-TTL:PT1H
BEGIN:VTIMEZONE
TZID:America/New_York
BEGIN:DAYLIGHT
TZOFFSETFROM:-0500
TZOFFSETTO:-0400
TZNAME:EDT
DTSTART:20240310T070000
END:DAYLIGHT
BEGIN:STANDARD
TZOFFSETFROM:-0400
TZOFFSETTO:-0500
TZNAME:EST
DTSTART:20241103T060000
END:STANDARD
BEGIN:DAYLIGHT
TZOFFSETFROM:-0500
TZOFFSETTO:-0400
TZNAME:EDT
DTSTART:20250309T070000
END:DAYLIGHT
BEGIN:STANDARD
TZOFFSETFROM:-0400
TZOFFSETTO:-0500
TZNAME:EST
DTSTART:20251102T060000
END:STANDARD
BEGIN:DAYLIGHT
TZOFFSETFROM:-0500
TZOFFSETTO:-0400
TZNAME:EDT
DTSTART:20260308T070000
END:DAYLIGHT
BEGIN:STANDARD
TZOFFSETFROM:-0400
TZOFFSETTO:-0500
TZNAME:EST
DTSTART:20261101T060000
END:STANDARD
END:VTIMEZONE
BEGIN:VTIMEZONE
TZID:America/Los_Angeles
BEGIN:DAYLIGHT
TZOFFSETFROM:-0800
TZOFFSETTO:-0700
TZNAME:PDT
DTSTART:20240310T100000
END:DAYLIGHT
BEGIN:STANDARD
TZOFFSETFROM:-0700
TZOFFSETTO:-0800
TZNAME:PST
DTSTART:20241103T090000
END:STANDARD
BEGIN:DAYLIGHT
TZOFFSETFROM:-0800
TZOFFSETTO:-0700
TZNAME:PDT
DTSTART:20250309T100000
END:DAYLIGHT
BEGIN:STANDARD
TZOFFSETFROM:-0700
TZOFFSETTO:-0800
TZNAME:PST
DTSTART:20251102T090000
END:STANDARD
BEGIN:DAYLIGHT
TZOFFSETFROM:-0800
TZOFFSETTO:-0700
TZNAME:PDT
DTSTART:20260308T100000
END:DAYLIGHT
BEGIN:STANDARD
TZOFFSETFROM:-0700
TZOFFSETTO:-0800
TZNAME:PST
DTSTART:20261101T090000
END:STANDARD
END:VTIMEZONE
BEGIN:VEVENT
DTSTART;VALUE=DATE:20250124
DTEND;VALUE=DATE:20250301
DTSTAMP:20260423T032109
CREATED:20220218T150540Z
LAST-MODIFIED:20250320T215517Z
UID:41445-1737676800-1740787199@comic-cons.xyz
SUMMARY:Target Con 2025
DESCRIPTION:Target Con 2025\n• Funko POP! Star Wars: Darth Vader Rebuild Figure\n• Funko POP! Sanrio: Hello Kitty Cinnamo IC Cone Figure\n• Funko POP! Game Case: OP Nami Wanted Figure (Target Exclusive)\n• Funko POP! NFL: Kansas City Chiefs Patrick Mahomes Figure\n• Funko POP! Marvel: Deadpool 3 Wolverine Figure (Target Exclusive)\n• Funko POP! Masters of the Universe x TMNT Skeletor Figure\n• Funko POP! Deluxe: Marvel Spider-Man Webbed Figure\n• Funko POP! Movies: FBDO Cameron in Jersey Figure\n• Funko POP! Deluxe: Beetlejuice Here Lies Betelguise Figure\n• Funko POP! Comic Cover: DC Justice League of America Superman Figure\n• Funko POP! Vinyl: Masters of the Universe x TMNT He-Man Figure\n• Funko POP! Super: Jurassic Park Velociraptor Fossil Figure\n• Funko POP! Jumbo: Demon Slayer S2 Tengen Figure\n• Funko POP! Moments: Star Wars Kylo and Rey Figure \nTarget Con 2024\nGet ready for the largest assortment & most Target-exclusive products ever. Available in limited quantities starting 8am CST on 2/18. Check back each Friday for new reveals. More info to come. \n \n\n\n\n\n\n\n\n• Eddie with Guitar\n• Elmo on Trike\n• Hal Jordan\n• Hello Kitty\n• Kong\n• Leia Pop & Tee Combo\n• Shadow & Amy 2-pack\n• Son Goku 10-inch\n• Sonic Backpack\n• Sonic Lunchbox\n• Squirrel Girl Comic Cover\n• Stephen Curry\n• Stitch 10-inch\n• Stranger Things 2-pack\n• The Last Ronin Comic Cover\n• Umbreon 10-inch\n• WWE 2-pack \nCan You Find a Kids Toy Store Near You? >\nToynk Mystery Box Collectibles Review >\nMore Funko Pop > \nTarget Con 2023
URL:https://comic-cons.xyz/event/target-con/
LOCATION:Online Event
CATEGORIES:Online Event,Toy Convention
ATTACH;FMTTYPE=image/png:https://comic-cons.xyz/wp-content/uploads/Target-Con-2025.png
END:VEVENT
BEGIN:VEVENT
DTSTART;VALUE=DATE:20250124
DTEND;VALUE=DATE:20250127
DTSTAMP:20260423T032109
CREATED:20240221T234427Z
LAST-MODIFIED:20241001T213939Z
UID:48696-1737676800-1737935999@comic-cons.xyz
SUMMARY:ST-SF: Trek to San Francisco (California)
DESCRIPTION:ST-SF: Trek to San Francisco Con March 8-10\, 2024. Hyatt Regency SFO Hotel. See your favorite Trek Stars and Cosplayers! \nWilliam Shatner comic cons guest appearances >
URL:https://comic-cons.xyz/event/st-sf-trek-to-san-francisco-california/
LOCATION:Hyatt Regency SFO\, 1333 Old Bayshore Hwy\, Burlingame\, CA\, 94010\, United States
CATEGORIES:Comic Con,Nerd Convention
END:VEVENT
BEGIN:VEVENT
DTSTART;VALUE=DATE:20250125
DTEND;VALUE=DATE:20250127
DTSTAMP:20260423T032109
CREATED:20221118T184839Z
LAST-MODIFIED:20241122T143906Z
UID:44009-1737763200-1737935999@comic-cons.xyz
SUMMARY:BrickUniverse LEGO Fan Convention (Huntsville\, Alabama)
DESCRIPTION:#1 family LEGO® Fan Event is coming to Huntsville\, AL in 2025 with the most creations built by professionals and hobbyist under one roof!
URL:https://comic-cons.xyz/event/brickuniverse-lego-fan-convention-huntsville-alabama/
LOCATION:Von Braun Center\, 700 Monroe Street\, Huntsville\, AL\, 35801\, United States
CATEGORIES:Toy Convention
ATTACH;FMTTYPE=image/png:https://comic-cons.xyz/wp-content/uploads/BrickUniverselogo-logo.png
END:VEVENT
END:VCALENDAR