BEGIN:VCALENDAR
VERSION:2.0
PRODID:-//2025 Conventions - ECPv6.15.17.1//NONSGML v1.0//EN
CALSCALE:GREGORIAN
METHOD:PUBLISH
X-ORIGINAL-URL:https://comic-cons.xyz
X-WR-CALDESC:Events for 2025 Conventions
REFRESH-INTERVAL;VALUE=DURATION:PT1H
X-Robots-Tag:noindex
X-PUBLISHED-TTL:PT1H
BEGIN:VTIMEZONE
TZID:America/New_York
BEGIN:DAYLIGHT
TZOFFSETFROM:-0500
TZOFFSETTO:-0400
TZNAME:EDT
DTSTART:20240310T070000
END:DAYLIGHT
BEGIN:STANDARD
TZOFFSETFROM:-0400
TZOFFSETTO:-0500
TZNAME:EST
DTSTART:20241103T060000
END:STANDARD
BEGIN:DAYLIGHT
TZOFFSETFROM:-0500
TZOFFSETTO:-0400
TZNAME:EDT
DTSTART:20250309T070000
END:DAYLIGHT
BEGIN:STANDARD
TZOFFSETFROM:-0400
TZOFFSETTO:-0500
TZNAME:EST
DTSTART:20251102T060000
END:STANDARD
BEGIN:DAYLIGHT
TZOFFSETFROM:-0500
TZOFFSETTO:-0400
TZNAME:EDT
DTSTART:20260308T070000
END:DAYLIGHT
BEGIN:STANDARD
TZOFFSETFROM:-0400
TZOFFSETTO:-0500
TZNAME:EST
DTSTART:20261101T060000
END:STANDARD
END:VTIMEZONE
BEGIN:VEVENT
DTSTART;VALUE=DATE:20250104
DTEND;VALUE=DATE:20250106
DTSTAMP:20260424T155811
CREATED:20230915T000614Z
LAST-MODIFIED:20241122T144529Z
UID:46630-1735948800-1736121599@comic-cons.xyz
SUMMARY:BrickUniverse LEGO Fan Convention (Sarasota\, Florida)
DESCRIPTION:#1 family LEGO® Fan Event is coming to Sarasota\, FL in 2025. For the ultimate LEGO® Fan experience and celebrate the endless possibilities of LEGO® bricks during the BrickUniverse Inspire Tour 2024. Guest will meet Professional Artists from around the country\, explore incredible LEGO® exhibits and creations\, have a chance to build their own LEGO® masterpiece\, find rare and new LEGO® sets and so much more!
URL:https://comic-cons.xyz/event/brickuniverse-lego-fan-convention-port-saratosa-florida/
LOCATION:Robarts Arena\, 3000 Ringling Blvd\, Sarasota\, FL\, 34237\, United States
CATEGORIES:Toy Convention
ATTACH;FMTTYPE=image/png:https://comic-cons.xyz/wp-content/uploads/BrickUniverselogo-logo.png
END:VEVENT
END:VCALENDAR