BEGIN:VCALENDAR
VERSION:2.0
PRODID:-//2025 Conventions - ECPv6.15.17.1//NONSGML v1.0//EN
CALSCALE:GREGORIAN
METHOD:PUBLISH
X-ORIGINAL-URL:https://comic-cons.xyz
X-WR-CALDESC:Events for 2025 Conventions
REFRESH-INTERVAL;VALUE=DURATION:PT1H
X-Robots-Tag:noindex
X-PUBLISHED-TTL:PT1H
BEGIN:VTIMEZONE
TZID:America/Chicago
BEGIN:DAYLIGHT
TZOFFSETFROM:-0600
TZOFFSETTO:-0500
TZNAME:CDT
DTSTART:20220313T080000
END:DAYLIGHT
BEGIN:STANDARD
TZOFFSETFROM:-0500
TZOFFSETTO:-0600
TZNAME:CST
DTSTART:20221106T070000
END:STANDARD
BEGIN:DAYLIGHT
TZOFFSETFROM:-0600
TZOFFSETTO:-0500
TZNAME:CDT
DTSTART:20230312T080000
END:DAYLIGHT
BEGIN:STANDARD
TZOFFSETFROM:-0500
TZOFFSETTO:-0600
TZNAME:CST
DTSTART:20231105T070000
END:STANDARD
BEGIN:DAYLIGHT
TZOFFSETFROM:-0600
TZOFFSETTO:-0500
TZNAME:CDT
DTSTART:20240310T080000
END:DAYLIGHT
BEGIN:STANDARD
TZOFFSETFROM:-0500
TZOFFSETTO:-0600
TZNAME:CST
DTSTART:20241103T070000
END:STANDARD
END:VTIMEZONE
BEGIN:VEVENT
DTSTART;VALUE=DATE:20231013
DTEND;VALUE=DATE:20231016
DTSTAMP:20260423T202555
CREATED:20180115T171932Z
LAST-MODIFIED:20240824T123412Z
UID:4004-1697155200-1697414399@comic-cons.xyz
SUMMARY:VisionCon (Springfield\, Missouri)
DESCRIPTION:Originally founded in 1990\, VisionCon is Southwest Missouri’s premier pop culture convention. If you are a fan of it\, you’ll probably find it here. This family-friendly convention features comic books\, science fiction\, fantasy\, cosplay\, live action role playing\, gaming\, and so much more! \nEvent Hours:\nFriday: Noon to 7pm\nSaturday: 9am to 7pm\nSunday: 9am to 3pm
URL:https://comic-cons.xyz/event/visioncon-springfield-missouri/
LOCATION:Springfield Expo Center\, 635 E St Louis St\, Springfield\, MO\, 65806\, United States
CATEGORIES:Comic Con
END:VEVENT
END:VCALENDAR