BEGIN:VCALENDAR
VERSION:2.0
PRODID:-//2025 Conventions - ECPv6.15.17.1//NONSGML v1.0//EN
CALSCALE:GREGORIAN
METHOD:PUBLISH
X-WR-CALNAME:2025 Conventions
X-ORIGINAL-URL:https://comic-cons.xyz
X-WR-CALDESC:Events for 2025 Conventions
REFRESH-INTERVAL;VALUE=DURATION:PT1H
X-Robots-Tag:noindex
X-PUBLISHED-TTL:PT1H
BEGIN:VTIMEZONE
TZID:America/Anchorage
BEGIN:DAYLIGHT
TZOFFSETFROM:-0900
TZOFFSETTO:-0800
TZNAME:AKDT
DTSTART:20220313T110000
END:DAYLIGHT
BEGIN:STANDARD
TZOFFSETFROM:-0800
TZOFFSETTO:-0900
TZNAME:AKST
DTSTART:20221106T100000
END:STANDARD
BEGIN:DAYLIGHT
TZOFFSETFROM:-0900
TZOFFSETTO:-0800
TZNAME:AKDT
DTSTART:20230312T110000
END:DAYLIGHT
BEGIN:STANDARD
TZOFFSETFROM:-0800
TZOFFSETTO:-0900
TZNAME:AKST
DTSTART:20231105T100000
END:STANDARD
BEGIN:DAYLIGHT
TZOFFSETFROM:-0900
TZOFFSETTO:-0800
TZNAME:AKDT
DTSTART:20240310T110000
END:DAYLIGHT
BEGIN:STANDARD
TZOFFSETFROM:-0800
TZOFFSETTO:-0900
TZNAME:AKST
DTSTART:20241103T100000
END:STANDARD
END:VTIMEZONE
BEGIN:VEVENT
DTSTART;VALUE=DATE:20230908
DTEND;VALUE=DATE:20230911
DTSTAMP:20260423T032120
CREATED:20170315T041609Z
LAST-MODIFIED:20230709T210944Z
UID:689-1694131200-1694390399@comic-cons.xyz
SUMMARY:Senshi Con (Anchorage\, Alaska)
DESCRIPTION:Senshi Con is an annual convention that caters to enthusiasts of Asian culture\, animation\, graphic novels\, and gaming held in Anchorage\, Alaska. It is Alaska’s largest event where you can share your fandoms\, make new friends\, and enjoy a nearly endless array of costumes\, live events\, panels\, contests\, and shop your favorite artists and vendors.
URL:https://comic-cons.xyz/event/senshi-con-anchorage-alaska/
LOCATION:Dena’ina Civic and Convention Center\, 600 W 7th Ave\, Anchorage\, AK\, 99501\, United States
CATEGORIES:Anime Con
END:VEVENT
END:VCALENDAR