BEGIN:VCALENDAR
VERSION:2.0
PRODID:-//2025 Conventions - ECPv6.15.17.1//NONSGML v1.0//EN
CALSCALE:GREGORIAN
METHOD:PUBLISH
X-ORIGINAL-URL:https://comic-cons.xyz
X-WR-CALDESC:Events for 2025 Conventions
REFRESH-INTERVAL;VALUE=DURATION:PT1H
X-Robots-Tag:noindex
X-PUBLISHED-TTL:PT1H
BEGIN:VTIMEZONE
TZID:America/New_York
BEGIN:DAYLIGHT
TZOFFSETFROM:-0500
TZOFFSETTO:-0400
TZNAME:EDT
DTSTART:20220313T070000
END:DAYLIGHT
BEGIN:STANDARD
TZOFFSETFROM:-0400
TZOFFSETTO:-0500
TZNAME:EST
DTSTART:20221106T060000
END:STANDARD
BEGIN:DAYLIGHT
TZOFFSETFROM:-0500
TZOFFSETTO:-0400
TZNAME:EDT
DTSTART:20230312T070000
END:DAYLIGHT
BEGIN:STANDARD
TZOFFSETFROM:-0400
TZOFFSETTO:-0500
TZNAME:EST
DTSTART:20231105T060000
END:STANDARD
BEGIN:DAYLIGHT
TZOFFSETFROM:-0500
TZOFFSETTO:-0400
TZNAME:EDT
DTSTART:20240310T070000
END:DAYLIGHT
BEGIN:STANDARD
TZOFFSETFROM:-0400
TZOFFSETTO:-0500
TZNAME:EST
DTSTART:20241103T060000
END:STANDARD
END:VTIMEZONE
BEGIN:VEVENT
DTSTART;VALUE=DATE:20230825
DTEND;VALUE=DATE:20230828
DTSTAMP:20260422T194510
CREATED:20170812T183403Z
LAST-MODIFIED:20240216T142521Z
UID:2653-1692921600-1693180799@comic-cons.xyz
SUMMARY:*CANCELLED* Con of Thrones\, The Game of Thrones Convention (Orlando\, Florida)
DESCRIPTION:Con of Thrones on Facebook \n \nTweets by ConOfThrones
URL:https://comic-cons.xyz/event/con-thrones-game-thrones-convention/
LOCATION:Hyatt Regency Orlando\, 9801 International Drive\, Orlando\, FL\, 32819\, United States
CATEGORIES:Nerd Convention
END:VEVENT
BEGIN:VEVENT
DTSTART;VALUE=DATE:20230826
DTEND;VALUE=DATE:20230828
DTSTAMP:20260422T194510
CREATED:20170302T175750Z
LAST-MODIFIED:20230821T220521Z
UID:258-1693008000-1693180799@comic-cons.xyz
SUMMARY:WVPopCon (Morgantown\, West Virginia)
DESCRIPTION:The West Virginia Popular Culture & Comic Book Convention\, also known as WVPopCon\, is a convention spanning many of today’s most popular entertainment elements including artists\, creators\, exhibitors\, panels\, comic books\, apparel\, custom crafts\, toys\, anime\, games\, tournaments\, cosplay\, contests and more. \n \nTweets by WVPopCon
URL:https://comic-cons.xyz/event/wvpopcon-morgantown-west-virginia/
LOCATION:Mylan Park\, 500 Mylan Park Lane\, Morgantown\, WV\, 26501\, United States
CATEGORIES:Comic Con
END:VEVENT
END:VCALENDAR