BEGIN:VCALENDAR
VERSION:2.0
PRODID:-//2025 Conventions - ECPv6.15.17.1//NONSGML v1.0//EN
CALSCALE:GREGORIAN
METHOD:PUBLISH
X-ORIGINAL-URL:https://comic-cons.xyz
X-WR-CALDESC:Events for 2025 Conventions
REFRESH-INTERVAL;VALUE=DURATION:PT1H
X-Robots-Tag:noindex
X-PUBLISHED-TTL:PT1H
BEGIN:VTIMEZONE
TZID:America/New_York
BEGIN:DAYLIGHT
TZOFFSETFROM:-0500
TZOFFSETTO:-0400
TZNAME:EDT
DTSTART:20220313T070000
END:DAYLIGHT
BEGIN:STANDARD
TZOFFSETFROM:-0400
TZOFFSETTO:-0500
TZNAME:EST
DTSTART:20221106T060000
END:STANDARD
BEGIN:DAYLIGHT
TZOFFSETFROM:-0500
TZOFFSETTO:-0400
TZNAME:EDT
DTSTART:20230312T070000
END:DAYLIGHT
BEGIN:STANDARD
TZOFFSETFROM:-0400
TZOFFSETTO:-0500
TZNAME:EST
DTSTART:20231105T060000
END:STANDARD
BEGIN:DAYLIGHT
TZOFFSETFROM:-0500
TZOFFSETTO:-0400
TZNAME:EDT
DTSTART:20240310T070000
END:DAYLIGHT
BEGIN:STANDARD
TZOFFSETFROM:-0400
TZOFFSETTO:-0500
TZNAME:EST
DTSTART:20241103T060000
END:STANDARD
END:VTIMEZONE
BEGIN:VEVENT
DTSTART;VALUE=DATE:20230303
DTEND;VALUE=DATE:20230325
DTSTAMP:20260422T192243
CREATED:20230228T000139Z
LAST-MODIFIED:20240109T160213Z
UID:44695-1677801600-1679702399@comic-cons.xyz
SUMMARY:Haulathon (NECA & Target)
DESCRIPTION:NECA and Target are proud to announce Haulathon\, the first of its kind global collectors event featuring the best in exclusive figures and never before seen collectibles. This four-week one-of-a-kind collaboration kicks off on March 3rd and will be available at Target and Target.com within the US and internationally at Haulathon.com. \n \nHaulathon will feature exclusive figures\, plush and other merchandise featuring the Teenage Mutant Ninja Turtles\, Sonic\, Hello Kitty\, Universal Monsters\, E.T.\, Gremlins\, Ghost Face\, Rob Zombie’s “The Munsters” and more. \n\n\n\n\n\n\n\nTeenage Mutant Ninja Turtles logos >
URL:https://comic-cons.xyz/event/haulathon-neca-target/
LOCATION:Online Event
CATEGORIES:Online Event,Toy Convention
ATTACH;FMTTYPE=image/jpeg:https://comic-cons.xyz/wp-content/uploads/Haulathon-2023.jpg
END:VEVENT
END:VCALENDAR