BEGIN:VCALENDAR
VERSION:2.0
PRODID:-//2025 Conventions - ECPv6.15.17.1//NONSGML v1.0//EN
CALSCALE:GREGORIAN
METHOD:PUBLISH
X-ORIGINAL-URL:https://comic-cons.xyz
X-WR-CALDESC:Events for 2025 Conventions
REFRESH-INTERVAL;VALUE=DURATION:PT1H
X-Robots-Tag:noindex
X-PUBLISHED-TTL:PT1H
BEGIN:VTIMEZONE
TZID:America/Los_Angeles
BEGIN:DAYLIGHT
TZOFFSETFROM:-0800
TZOFFSETTO:-0700
TZNAME:PDT
DTSTART:20220313T100000
END:DAYLIGHT
BEGIN:STANDARD
TZOFFSETFROM:-0700
TZOFFSETTO:-0800
TZNAME:PST
DTSTART:20221106T090000
END:STANDARD
BEGIN:DAYLIGHT
TZOFFSETFROM:-0800
TZOFFSETTO:-0700
TZNAME:PDT
DTSTART:20230312T100000
END:DAYLIGHT
BEGIN:STANDARD
TZOFFSETFROM:-0700
TZOFFSETTO:-0800
TZNAME:PST
DTSTART:20231105T090000
END:STANDARD
BEGIN:DAYLIGHT
TZOFFSETFROM:-0800
TZOFFSETTO:-0700
TZNAME:PDT
DTSTART:20240310T100000
END:DAYLIGHT
BEGIN:STANDARD
TZOFFSETFROM:-0700
TZOFFSETTO:-0800
TZNAME:PST
DTSTART:20241103T090000
END:STANDARD
END:VTIMEZONE
BEGIN:VEVENT
DTSTART;VALUE=DATE:20230201
DTEND;VALUE=DATE:20230202
DTSTAMP:20260424T022032
CREATED:20210713T114816Z
LAST-MODIFIED:20240226T141822Z
UID:40665-1675209600-1675295999@comic-cons.xyz
SUMMARY:FunKon (Funko Pop Convention)
DESCRIPTION:That’s right folks! Funko Fair is back! This year we’re announcing new products over three weeks\, starting Wednesday January 18th\, continuing on Wednesday January 25th\, and wrapping up on Wednesday February 1st. \nFunko Fair 2023 Day 1 Releases for January 18th:\n• Demon Slayer: Kimetsu no Yaiba – Pre-order details are available here (Includes Exclusives)\n• Captain America: Civil War Build A Scene – Black Panther – Amazon Exclusive (More details here)\n• Dragon Ball Super SSGSS Goku Blue Kaioken (Glow) – BoxLunch Exclusive\n• Five Nights at Freddy’s – Pre-order at Entertainment Earth / Walmart Exclusives (Coming Soon) / Amazon\n• Freddy Mercury Funko Pop and Pin (Platinum) – Hot Topic Exclusive / See at Funko\n• Banksy Brandalised Funko Pop Art Covers – Pre-order at Entertainment Earth / Amazon\n• Wednesday with Cello – Funko Exclusive\n• Guardians of the Galaxy Vol. 3 – Pre-order details are available here\n• Sir Mix-A-Lot Mack Daddy Pop Album – Pre-order at Entertainment Earth / Amazon\n• DMX – Pre-order at Entertainment Earth / Funko Exclusive\n• Gilligan’s Island – Pre-order on Amazon / Entertainment Earth\n• Shazam Comic Cover – Pre-order at Entertainment Earth / Walmart\n• Dungeons & Dragons: Honor Among Thieves – Pre-order at GameStop / Walmart Exclusive\n• Harry Potter – Hagrid’s Hut with Case – Pre-order at Entertainment Earth \nFunko Fair 2023 Day 2 Releases for January 25th:\n• Color Compton Easy-E and Venus Williams Pops With Purpose – See at Funko\n• Disney 100 – Pre-order details are available here (Includes Exclusives)\n• Jack in the Box Fluffy – Fluffy Exclusive\n• Captain America Civil War Series Black Widow – Figure 4 of 12 – Amazon Exclusive (More details here)\n• Funko Soda – Jurassic Park\, BTTF\, Parks & Rec\, Stranger Things\, Batman 66 – Pre-order at Entertainment Earth / Padme Amidala – FYE Exclusive\n• Funko Pop Puzzles – Ted Lasso\, GOTG\, Jurassic Park\, SpongeBob Squarepants – Pre-order at Entertainment Earth\n• I am Groot – Pre-order details are available here\n• Thor’s House – Pre-order details are available here\n• 60th Anniversary Thor Funko Pop and Pin – Amazon Exclusive\n• One Piece – Pre-order details are available here\n• TLC Oooh on the TLC Tip Funko Pop Album – Pre-order at Entertainment Earth\n• Hawkeye and Ant-Man Comic Cover – Target Exclusive\n• Wolverine Comic Cover – Target Exclusive\n• What If Funko Soda – Pre-order at Entertainment Earth / Zombie Iron Man – Walmart Exclusive\n• My Hero Academia Build-A-Scene – Specialty Series Coming Soon\n• Megadeth – Pre-order at Entertainment Earth \n\n\n\n\n\n\n\nFunko Fair 2023 Day 3 Releases for February 1st\n• Star Wars Return of the Jedi 40th Anniversary – Pre-order details are available here (Includes Exclusives)\n• WWE – Pre-order the commons at Entertainment Earth / Cody Rhodes – Walmart Exclusive / Ted DiBiase (with Chase) – GameStop Exclusive / Wrestlemainia WWE Covers Mr. T and Hulk Hogan – Target Exclusive\n• Freddy Funko Pop Candy – Funko Exclusive\n• Wonder Woman\, The Joker\, and Batman Pop Candy / Care Bears – Pre-order at Entertainment Earth\n• Willow (Movie) – Pre-order details are available here\n• Scarlet Witch Exclusives – Pre-order details are available here\n• Cyndi Lauper – Pre-order at Entertainment Earth\n• What We Do In the Shadows – Pre-order details can be found here (Includes Exclusives)\n• Boruto Hokage Rock Minato Namikaze – Pre-order details can be found here (Exclusive)\n• Black Light Jimi Hendrix Gold – Pre-order at Entertainment Earth\n• Cher – If I Could Turn Back Time – Amazon Exclusive (Diamond) / Pre-order at Entertainment Earth (Common)\n• Marty McFly SODA – Pre-order at Entertainment Earth\n• Stranger Things – Season 4 Dustin and Eddie vs Demobats Pop Moment – Pre-order at Entertainment Earth \nFunkon 2022\nFunko will be throwing a block party in the heart of Everett\, WA to celebrate the Funko HQ store’s 5 Year Anniversary! Partake in the party by playing games\, entering giveaways\, visiting the beer garden\, or getting your face painted!\nCelebrate in-person at the Funko HQ store! The event will take place on Saturday\, August 20th 2022 from 10 AM – 6 PM PST.\nStore location is 2802 Wetmore Ave\, Everett\, WA 98201 USA. \nFAQs\nWhat is a virtual FunKon?\nFunKon was a virtual convention that you can follow along and participate in Funko’s social channels- Instagram\, Twitter\, and Facebook. 2022 was the last year it was held. For 2023\, they had Funko Fair instead. \nHow many days is Funko Fair 2023?\nFunko Fair 2023 occurred in a span of 3 weeks with Funko announcing new products\, starting Wednesday January 18th\, continuing on Wednesday January 25th\, andending on Wednesday February 1st. \nHow does Funko Fair work?\nFunko Fair is about virtually showcasing the newest Funko products that their incredible creative team has been working.
URL:https://comic-cons.xyz/event/funkon-funko-pop-convention/
LOCATION:Funko HQ store\, 2802 Wetmore Ave\, Everett\, WA\, 98201\, United States
CATEGORIES:Toy Convention
ATTACH;FMTTYPE=image/png:https://comic-cons.xyz/wp-content/uploads/FunKon-2022.png
END:VEVENT
END:VCALENDAR